BEGIN:VCALENDAR
VERSION:2.0
PRODID:-//Cypress Lanes - ECPv6.15.17.1//NONSGML v1.0//EN
CALSCALE:GREGORIAN
METHOD:PUBLISH
X-ORIGINAL-URL:https://www.cypresslanesms.com
X-WR-CALDESC:Events for Cypress Lanes
REFRESH-INTERVAL;VALUE=DURATION:PT1H
X-Robots-Tag:noindex
X-PUBLISHED-TTL:PT1H
BEGIN:VTIMEZONE
TZID:UTC
BEGIN:STANDARD
TZOFFSETFROM:+0000
TZOFFSETTO:+0000
TZNAME:UTC
DTSTART:20240101T000000
END:STANDARD
END:VTIMEZONE
BEGIN:VEVENT
DTSTART;TZID=UTC:20250804T180000
DTEND;TZID=UTC:20250804T210000
DTSTAMP:20260420T082335
CREATED:20250602T215107Z
LAST-MODIFIED:20250602T215107Z
UID:10004619-1754330400-1754341200@www.cypresslanesms.com
SUMMARY:Sport Shot League
DESCRIPTION:Call for availability.
URL:https://www.cypresslanesms.com/event/sport-shot-league/2025-08-04/
LOCATION:Cypress Lanes\, 3200 Mallett Road\, D'Iberville\, MS\, 39540\, United States
END:VEVENT
END:VCALENDAR