BEGIN:VCALENDAR
VERSION:2.0
PRODID:-//Cypress Lanes - ECPv6.15.17.1//NONSGML v1.0//EN
CALSCALE:GREGORIAN
METHOD:PUBLISH
X-ORIGINAL-URL:https://www.cypresslanesms.com
X-WR-CALDESC:Events for Cypress Lanes
REFRESH-INTERVAL;VALUE=DURATION:PT1H
X-Robots-Tag:noindex
X-PUBLISHED-TTL:PT1H
BEGIN:VTIMEZONE
TZID:UTC
BEGIN:STANDARD
TZOFFSETFROM:+0000
TZOFFSETTO:+0000
TZNAME:UTC
DTSTART:20240101T000000
END:STANDARD
END:VTIMEZONE
BEGIN:VEVENT
DTSTART;TZID=UTC:20250614T100000
DTEND;TZID=UTC:20250614T113000
DTSTAMP:20260420T083413
CREATED:20231207T194422Z
LAST-MODIFIED:20231207T205505Z
UID:10000081-1749895200-1749900600@www.cypresslanesms.com
SUMMARY:Alley Cats League Bowling
DESCRIPTION:EVERY Saturday from 10:00am to 11:30am. Please call for Availability.
URL:https://www.cypresslanesms.com/event/alley-cats-league-bowling/2025-06-14/
LOCATION:Cypress Lanes\, 3200 Mallett Road\, D'Iberville\, MS\, 39540\, United States
END:VEVENT
BEGIN:VEVENT
DTSTART;TZID=UTC:20250614T110000
DTEND;TZID=UTC:20250614T190000
DTSTAMP:20260420T083413
CREATED:20241106T194723Z
LAST-MODIFIED:20241106T194723Z
UID:10003494-1749898800-1749927600@www.cypresslanesms.com
SUMMARY:Cypress Lanes Birthday Parties
DESCRIPTION:Party Times:\n11am to 1pm\n2pm to 4pm\n5pm to 7pm \nCALL FOR AVAILABILITY
URL:https://www.cypresslanesms.com/event/cypress-lanes-birthday-parties/2025-06-14/
LOCATION:Cypress Lanes\, 3200 Mallett Road\, D'Iberville\, MS\, 39540\, United States
END:VEVENT
BEGIN:VEVENT
DTSTART;TZID=UTC:20250615T090000
DTEND;TZID=UTC:20250615T103000
DTSTAMP:20260420T083413
CREATED:20231207T211415Z
LAST-MODIFIED:20240203T202616Z
UID:10002818-1749978000-1749983400@www.cypresslanesms.com
SUMMARY:Youth League Bowling
DESCRIPTION:EVERY Sunday from 6:00pm to 7:00pm. Please call for availability\,
URL:https://www.cypresslanesms.com/event/youth-league-bowling/2025-06-15/
LOCATION:Cypress Lanes\, 3200 Mallett Road\, D'Iberville\, MS\, 39540\, United States
END:VEVENT
BEGIN:VEVENT
DTSTART;TZID=UTC:20250615T110000
DTEND;TZID=UTC:20250615T190000
DTSTAMP:20260420T083413
CREATED:20241106T194809Z
LAST-MODIFIED:20241106T194828Z
UID:10004018-1749985200-1750014000@www.cypresslanesms.com
SUMMARY:Cypress Lanes Birthday Parties
DESCRIPTION:Party Times:\n11am to 1pm\n2pm to 4pm\n5pm to 7pm \nCALL FOR AVAILABILITY
URL:https://www.cypresslanesms.com/event/cypress-lanes-birthday-parties-2/2025-06-15/
LOCATION:Cypress Lanes\, 3200 Mallett Road\, D'Iberville\, MS\, 39540\, United States
END:VEVENT
BEGIN:VEVENT
DTSTART;TZID=UTC:20250616T100000
DTEND;TZID=UTC:20250616T113000
DTSTAMP:20260420T083413
CREATED:20250602T210152Z
LAST-MODIFIED:20250602T221452Z
UID:10004305-1750068000-1750073400@www.cypresslanesms.com
SUMMARY:Group Event
DESCRIPTION:Call for availability.
URL:https://www.cypresslanesms.com/event/group-event-13/2025-06-16/
LOCATION:Cypress Lanes\, 3200 Mallett Road\, D'Iberville\, MS\, 39540\, United States
END:VEVENT
BEGIN:VEVENT
DTSTART;TZID=UTC:20250616T120000
DTEND;TZID=UTC:20250616T130000
DTSTAMP:20260420T083413
CREATED:20250602T211929Z
LAST-MODIFIED:20250602T211929Z
UID:10004595-1750075200-1750078800@www.cypresslanesms.com
SUMMARY:Group Event
DESCRIPTION:Call for availability.
URL:https://www.cypresslanesms.com/event/group-event-23/
LOCATION:Cypress Lanes\, 3200 Mallett Road\, D'Iberville\, MS\, 39540\, United States
END:VEVENT
BEGIN:VEVENT
DTSTART;TZID=UTC:20250616T133000
DTEND;TZID=UTC:20250616T143000
DTSTAMP:20260420T083413
CREATED:20250602T212009Z
LAST-MODIFIED:20250602T212009Z
UID:10004596-1750080600-1750084200@www.cypresslanesms.com
SUMMARY:Group Event
DESCRIPTION:Call for availability.
URL:https://www.cypresslanesms.com/event/group-event-24/
LOCATION:Cypress Lanes\, 3200 Mallett Road\, D'Iberville\, MS\, 39540\, United States
END:VEVENT
BEGIN:VEVENT
DTSTART;TZID=UTC:20250616T180000
DTEND;TZID=UTC:20250616T210000
DTSTAMP:20260420T083413
CREATED:20250602T215107Z
LAST-MODIFIED:20250602T215107Z
UID:10004612-1750096800-1750107600@www.cypresslanesms.com
SUMMARY:Sport Shot League
DESCRIPTION:Call for availability.
URL:https://www.cypresslanesms.com/event/sport-shot-league/2025-06-16/
LOCATION:Cypress Lanes\, 3200 Mallett Road\, D'Iberville\, MS\, 39540\, United States
END:VEVENT
BEGIN:VEVENT
DTSTART;TZID=UTC:20250617T100000
DTEND;TZID=UTC:20250617T113000
DTSTAMP:20260420T083413
CREATED:20250602T210305Z
LAST-MODIFIED:20250602T221554Z
UID:10004419-1750154400-1750159800@www.cypresslanesms.com
SUMMARY:Group Event
DESCRIPTION:Call for availability.
URL:https://www.cypresslanesms.com/event/group-event-14/2025-06-17/
LOCATION:Cypress Lanes\, 3200 Mallett Road\, D'Iberville\, MS\, 39540\, United States
END:VEVENT
BEGIN:VEVENT
DTSTART;TZID=UTC:20250617T123000
DTEND;TZID=UTC:20250617T160000
DTSTAMP:20260420T083413
CREATED:20231207T202358Z
LAST-MODIFIED:20231207T205318Z
UID:10000603-1750163400-1750176000@www.cypresslanesms.com
SUMMARY:Tuesday Seniors League Bowling
DESCRIPTION:EVERY Tuesday from 12:30pm to 4:00pm. Please call for Availability.
URL:https://www.cypresslanesms.com/event/tuesday-seniors-league-bowling/2025-06-17/
LOCATION:Cypress Lanes\, 3200 Mallett Road\, D'Iberville\, MS\, 39540\, United States
END:VEVENT
BEGIN:VEVENT
DTSTART;TZID=UTC:20250617T183000
DTEND;TZID=UTC:20250617T213000
DTSTAMP:20260420T083413
CREATED:20231207T203618Z
LAST-MODIFIED:20231207T203618Z
UID:10000864-1750185000-1750195800@www.cypresslanesms.com
SUMMARY:Tuesday Mixed League Bowling
DESCRIPTION:EVERY Tuesday from 6:30pm to 9:30pm. Please call for Availability.
URL:https://www.cypresslanesms.com/event/tuesday-mixed-league-bowling/2025-06-17/
LOCATION:Cypress Lanes\, 3200 Mallett Road\, D'Iberville\, MS\, 39540\, United States
END:VEVENT
BEGIN:VEVENT
DTSTART;TZID=UTC:20250618T100000
DTEND;TZID=UTC:20250618T120000
DTSTAMP:20260420T083413
CREATED:20231207T205719Z
LAST-MODIFIED:20240430T225655Z
UID:10001394-1750240800-1750248000@www.cypresslanesms.com
SUMMARY:Wednesday Prime Timer's League Bowling
DESCRIPTION:EVERY Wednesday from 10:00am to 12:00pm. Please call for availability.
URL:https://www.cypresslanesms.com/event/wednesday-prime-timers-league-bowling-2/2025-06-18/
LOCATION:MS
END:VEVENT
BEGIN:VEVENT
DTSTART;TZID=UTC:20250618T100000
DTEND;TZID=UTC:20250618T133000
DTSTAMP:20260420T083413
CREATED:20250602T210451Z
LAST-MODIFIED:20250602T221721Z
UID:10004669-1750240800-1750253400@www.cypresslanesms.com
SUMMARY:Group Event
DESCRIPTION:Call for availability.
URL:https://www.cypresslanesms.com/event/group-event-15/2025-06-18/
LOCATION:Cypress Lanes\, 3200 Mallett Road\, D'Iberville\, MS\, 39540\, United States
END:VEVENT
BEGIN:VEVENT
DTSTART;TZID=UTC:20250618T113000
DTEND;TZID=UTC:20250618T163000
DTSTAMP:20260420T083413
CREATED:20250602T212107Z
LAST-MODIFIED:20250602T212107Z
UID:10004597-1750246200-1750264200@www.cypresslanesms.com
SUMMARY:Group Event
DESCRIPTION:Call for availability.
URL:https://www.cypresslanesms.com/event/group-event-25/
LOCATION:Cypress Lanes\, 3200 Mallett Road\, D'Iberville\, MS\, 39540\, United States
END:VEVENT
BEGIN:VEVENT
DTSTART;TZID=UTC:20250618T123000
DTEND;TZID=UTC:20250618T133000
DTSTAMP:20260420T083413
CREATED:20250602T212155Z
LAST-MODIFIED:20250602T212155Z
UID:10004598-1750249800-1750253400@www.cypresslanesms.com
SUMMARY:Group Event
DESCRIPTION:Call for availability.
URL:https://www.cypresslanesms.com/event/group-event-26/
LOCATION:Cypress Lanes\, 3200 Mallett Road\, D'Iberville\, MS\, 39540\, United States
END:VEVENT
BEGIN:VEVENT
DTSTART;TZID=UTC:20250618T183000
DTEND;TZID=UTC:20250618T213000
DTSTAMP:20260420T083413
CREATED:20231207T205954Z
LAST-MODIFIED:20231207T205954Z
UID:10001655-1750271400-1750282200@www.cypresslanesms.com
SUMMARY:Wednesday Night Mixed League Bowling
DESCRIPTION:EVERY Wednesday from 6:30pm to 9:30pm. Please call for availability\,
URL:https://www.cypresslanesms.com/event/wednesday-night-mixed-league-bowling/2025-06-18/
LOCATION:Cypress Lanes\, 3200 Mallett Road\, D'Iberville\, MS\, 39540\, United States
END:VEVENT
BEGIN:VEVENT
DTSTART;TZID=UTC:20250619T100000
DTEND;TZID=UTC:20250619T123000
DTSTAMP:20260420T083413
CREATED:20231207T210224Z
LAST-MODIFIED:20240430T225609Z
UID:10001916-1750327200-1750336200@www.cypresslanesms.com
SUMMARY:Thursday Senior League Bowling
DESCRIPTION:EVERY Thursday from 10:00am to 12:30pm. Please call for availability.
URL:https://www.cypresslanesms.com/event/thursday-senior-league-bowling/2025-06-19/
LOCATION:MS
END:VEVENT
BEGIN:VEVENT
DTSTART;TZID=UTC:20250619T183000
DTEND;TZID=UTC:20250619T220000
DTSTAMP:20260420T083413
CREATED:20231207T210353Z
LAST-MODIFIED:20231207T210353Z
UID:10002177-1750357800-1750370400@www.cypresslanesms.com
SUMMARY:Thursday Night Mixed League
DESCRIPTION:EVERY Thursday from 6:30pm to 10:00pm. Please call for availability.
URL:https://www.cypresslanesms.com/event/thursday-night-mixed-league/2025-06-19/
LOCATION:MS
END:VEVENT
BEGIN:VEVENT
DTSTART;TZID=UTC:20250620T100000
DTEND;TZID=UTC:20250620T110000
DTSTAMP:20260420T083413
CREATED:20250602T212314Z
LAST-MODIFIED:20250602T212314Z
UID:10004599-1750413600-1750417200@www.cypresslanesms.com
SUMMARY:Group Events
DESCRIPTION:Call for availability.
URL:https://www.cypresslanesms.com/event/group-events-2/
LOCATION:Cypress Lanes\, 3200 Mallett Road\, D'Iberville\, MS\, 39540\, United States
END:VEVENT
BEGIN:VEVENT
DTSTART;TZID=UTC:20250620T113000
DTEND;TZID=UTC:20250620T163000
DTSTAMP:20260420T083413
CREATED:20250602T212446Z
LAST-MODIFIED:20250602T213258Z
UID:10004600-1750419000-1750437000@www.cypresslanesms.com
SUMMARY:Group Event
DESCRIPTION:Call for availability.
URL:https://www.cypresslanesms.com/event/group-events-3/
LOCATION:Cypress Lanes\, 3200 Mallett Road\, D'Iberville\, MS\, 39540\, United States
END:VEVENT
BEGIN:VEVENT
DTSTART;TZID=UTC:20250620T130000
DTEND;TZID=UTC:20250620T140000
DTSTAMP:20260420T083413
CREATED:20250602T212620Z
LAST-MODIFIED:20250602T213348Z
UID:10004601-1750424400-1750428000@www.cypresslanesms.com
SUMMARY:Group Event
DESCRIPTION:Call for availability.
URL:https://www.cypresslanesms.com/event/group-events-4/
LOCATION:Cypress Lanes\, 3200 Mallett Road\, D'Iberville\, MS\, 39540\, United States
END:VEVENT
BEGIN:VEVENT
DTSTART;TZID=UTC:20250621T100000
DTEND;TZID=UTC:20250621T113000
DTSTAMP:20260420T083413
CREATED:20231207T194422Z
LAST-MODIFIED:20231207T205505Z
UID:10000082-1750500000-1750505400@www.cypresslanesms.com
SUMMARY:Alley Cats League Bowling
DESCRIPTION:EVERY Saturday from 10:00am to 11:30am. Please call for Availability.
URL:https://www.cypresslanesms.com/event/alley-cats-league-bowling/2025-06-21/
LOCATION:Cypress Lanes\, 3200 Mallett Road\, D'Iberville\, MS\, 39540\, United States
END:VEVENT
BEGIN:VEVENT
DTSTART;TZID=UTC:20250621T110000
DTEND;TZID=UTC:20250621T190000
DTSTAMP:20260420T083413
CREATED:20241106T194723Z
LAST-MODIFIED:20241106T194723Z
UID:10003495-1750503600-1750532400@www.cypresslanesms.com
SUMMARY:Cypress Lanes Birthday Parties
DESCRIPTION:Party Times:\n11am to 1pm\n2pm to 4pm\n5pm to 7pm \nCALL FOR AVAILABILITY
URL:https://www.cypresslanesms.com/event/cypress-lanes-birthday-parties/2025-06-21/
LOCATION:Cypress Lanes\, 3200 Mallett Road\, D'Iberville\, MS\, 39540\, United States
END:VEVENT
BEGIN:VEVENT
DTSTART;TZID=UTC:20250622T090000
DTEND;TZID=UTC:20250622T103000
DTSTAMP:20260420T083413
CREATED:20231207T211415Z
LAST-MODIFIED:20240203T202616Z
UID:10002819-1750582800-1750588200@www.cypresslanesms.com
SUMMARY:Youth League Bowling
DESCRIPTION:EVERY Sunday from 6:00pm to 7:00pm. Please call for availability\,
URL:https://www.cypresslanesms.com/event/youth-league-bowling/2025-06-22/
LOCATION:Cypress Lanes\, 3200 Mallett Road\, D'Iberville\, MS\, 39540\, United States
END:VEVENT
BEGIN:VEVENT
DTSTART;TZID=UTC:20250622T110000
DTEND;TZID=UTC:20250622T190000
DTSTAMP:20260420T083413
CREATED:20241106T194809Z
LAST-MODIFIED:20241106T194828Z
UID:10004019-1750590000-1750618800@www.cypresslanesms.com
SUMMARY:Cypress Lanes Birthday Parties
DESCRIPTION:Party Times:\n11am to 1pm\n2pm to 4pm\n5pm to 7pm \nCALL FOR AVAILABILITY
URL:https://www.cypresslanesms.com/event/cypress-lanes-birthday-parties-2/2025-06-22/
LOCATION:Cypress Lanes\, 3200 Mallett Road\, D'Iberville\, MS\, 39540\, United States
END:VEVENT
BEGIN:VEVENT
DTSTART;TZID=UTC:20250623T100000
DTEND;TZID=UTC:20250623T113000
DTSTAMP:20260420T083413
CREATED:20250602T210152Z
LAST-MODIFIED:20250602T221452Z
UID:10004306-1750672800-1750678200@www.cypresslanesms.com
SUMMARY:Group Event
DESCRIPTION:Call for availability.
URL:https://www.cypresslanesms.com/event/group-event-13/2025-06-23/
LOCATION:Cypress Lanes\, 3200 Mallett Road\, D'Iberville\, MS\, 39540\, United States
END:VEVENT
BEGIN:VEVENT
DTSTART;TZID=UTC:20250623T120000
DTEND;TZID=UTC:20250623T130000
DTSTAMP:20260420T083413
CREATED:20250602T212745Z
LAST-MODIFIED:20250602T213437Z
UID:10004602-1750680000-1750683600@www.cypresslanesms.com
SUMMARY:Group Event
DESCRIPTION:Call for availability.
URL:https://www.cypresslanesms.com/event/group-events-5/
LOCATION:Cypress Lanes\, 3200 Mallett Road\, D'Iberville\, MS\, 39540\, United States
END:VEVENT
BEGIN:VEVENT
DTSTART;TZID=UTC:20250623T170000
DTEND;TZID=UTC:20250623T220000
DTSTAMP:20260420T083413
CREATED:20250602T212939Z
LAST-MODIFIED:20250602T213525Z
UID:10004603-1750698000-1750716000@www.cypresslanesms.com
SUMMARY:Group Event
DESCRIPTION:Call for availability.
URL:https://www.cypresslanesms.com/event/group-events-6/
LOCATION:Cypress Lanes\, 3200 Mallett Road\, D'Iberville\, MS\, 39540\, United States
END:VEVENT
BEGIN:VEVENT
DTSTART;TZID=UTC:20250623T180000
DTEND;TZID=UTC:20250623T210000
DTSTAMP:20260420T083413
CREATED:20250602T215107Z
LAST-MODIFIED:20250602T215107Z
UID:10004613-1750701600-1750712400@www.cypresslanesms.com
SUMMARY:Sport Shot League
DESCRIPTION:Call for availability.
URL:https://www.cypresslanesms.com/event/sport-shot-league/2025-06-23/
LOCATION:Cypress Lanes\, 3200 Mallett Road\, D'Iberville\, MS\, 39540\, United States
END:VEVENT
BEGIN:VEVENT
DTSTART;TZID=UTC:20250624T100000
DTEND;TZID=UTC:20250624T113000
DTSTAMP:20260420T083413
CREATED:20250602T210305Z
LAST-MODIFIED:20250602T221554Z
UID:10004420-1750759200-1750764600@www.cypresslanesms.com
SUMMARY:Group Event
DESCRIPTION:Call for availability.
URL:https://www.cypresslanesms.com/event/group-event-14/2025-06-24/
LOCATION:Cypress Lanes\, 3200 Mallett Road\, D'Iberville\, MS\, 39540\, United States
END:VEVENT
END:VCALENDAR