BEGIN:VCALENDAR
VERSION:2.0
PRODID:-//Cypress Lanes - ECPv6.15.17.1//NONSGML v1.0//EN
CALSCALE:GREGORIAN
METHOD:PUBLISH
X-ORIGINAL-URL:https://www.cypresslanesms.com
X-WR-CALDESC:Events for Cypress Lanes
REFRESH-INTERVAL;VALUE=DURATION:PT1H
X-Robots-Tag:noindex
X-PUBLISHED-TTL:PT1H
BEGIN:VTIMEZONE
TZID:UTC
BEGIN:STANDARD
TZOFFSETFROM:+0000
TZOFFSETTO:+0000
TZNAME:UTC
DTSTART:20240101T000000
END:STANDARD
END:VTIMEZONE
BEGIN:VEVENT
DTSTART;TZID=UTC:20250206T183000
DTEND;TZID=UTC:20250206T220000
DTSTAMP:20260421T015017
CREATED:20231207T210353Z
LAST-MODIFIED:20231207T210353Z
UID:10002158-1738866600-1738879200@www.cypresslanesms.com
SUMMARY:Thursday Night Mixed League
DESCRIPTION:EVERY Thursday from 6:30pm to 10:00pm. Please call for availability.
URL:https://www.cypresslanesms.com/event/thursday-night-mixed-league/2025-02-06/
LOCATION:MS
END:VEVENT
BEGIN:VEVENT
DTSTART;TZID=UTC:20250208T100000
DTEND;TZID=UTC:20250208T113000
DTSTAMP:20260421T015017
CREATED:20231207T194422Z
LAST-MODIFIED:20231207T205505Z
UID:10000063-1739008800-1739014200@www.cypresslanesms.com
SUMMARY:Alley Cats League Bowling
DESCRIPTION:EVERY Saturday from 10:00am to 11:30am. Please call for Availability.
URL:https://www.cypresslanesms.com/event/alley-cats-league-bowling/2025-02-08/
LOCATION:Cypress Lanes\, 3200 Mallett Road\, D'Iberville\, MS\, 39540\, United States
END:VEVENT
BEGIN:VEVENT
DTSTART;TZID=UTC:20250208T110000
DTEND;TZID=UTC:20250208T190000
DTSTAMP:20260421T015017
CREATED:20241106T194723Z
LAST-MODIFIED:20241106T194723Z
UID:10003476-1739012400-1739041200@www.cypresslanesms.com
SUMMARY:Cypress Lanes Birthday Parties
DESCRIPTION:Party Times:\n11am to 1pm\n2pm to 4pm\n5pm to 7pm \nCALL FOR AVAILABILITY
URL:https://www.cypresslanesms.com/event/cypress-lanes-birthday-parties/2025-02-08/
LOCATION:Cypress Lanes\, 3200 Mallett Road\, D'Iberville\, MS\, 39540\, United States
END:VEVENT
BEGIN:VEVENT
DTSTART;TZID=UTC:20250209T090000
DTEND;TZID=UTC:20250209T103000
DTSTAMP:20260421T015017
CREATED:20231207T211415Z
LAST-MODIFIED:20240203T202616Z
UID:10002800-1739091600-1739097000@www.cypresslanesms.com
SUMMARY:Youth League Bowling
DESCRIPTION:EVERY Sunday from 6:00pm to 7:00pm. Please call for availability\,
URL:https://www.cypresslanesms.com/event/youth-league-bowling/2025-02-09/
LOCATION:Cypress Lanes\, 3200 Mallett Road\, D'Iberville\, MS\, 39540\, United States
END:VEVENT
BEGIN:VEVENT
DTSTART;TZID=UTC:20250209T110000
DTEND;TZID=UTC:20250209T190000
DTSTAMP:20260421T015017
CREATED:20241106T194809Z
LAST-MODIFIED:20241106T194828Z
UID:10004000-1739098800-1739127600@www.cypresslanesms.com
SUMMARY:Cypress Lanes Birthday Parties
DESCRIPTION:Party Times:\n11am to 1pm\n2pm to 4pm\n5pm to 7pm \nCALL FOR AVAILABILITY
URL:https://www.cypresslanesms.com/event/cypress-lanes-birthday-parties-2/2025-02-09/
LOCATION:Cypress Lanes\, 3200 Mallett Road\, D'Iberville\, MS\, 39540\, United States
END:VEVENT
BEGIN:VEVENT
DTSTART;TZID=UTC:20250211T123000
DTEND;TZID=UTC:20250211T160000
DTSTAMP:20260421T015017
CREATED:20231207T202358Z
LAST-MODIFIED:20231207T205318Z
UID:10000585-1739277000-1739289600@www.cypresslanesms.com
SUMMARY:Tuesday Seniors League Bowling
DESCRIPTION:EVERY Tuesday from 12:30pm to 4:00pm. Please call for Availability.
URL:https://www.cypresslanesms.com/event/tuesday-seniors-league-bowling/2025-02-11/
LOCATION:Cypress Lanes\, 3200 Mallett Road\, D'Iberville\, MS\, 39540\, United States
END:VEVENT
BEGIN:VEVENT
DTSTART;TZID=UTC:20250211T183000
DTEND;TZID=UTC:20250211T213000
DTSTAMP:20260421T015017
CREATED:20231207T203618Z
LAST-MODIFIED:20231207T203618Z
UID:10000846-1739298600-1739309400@www.cypresslanesms.com
SUMMARY:Tuesday Mixed League Bowling
DESCRIPTION:EVERY Tuesday from 6:30pm to 9:30pm. Please call for Availability.
URL:https://www.cypresslanesms.com/event/tuesday-mixed-league-bowling/2025-02-11/
LOCATION:Cypress Lanes\, 3200 Mallett Road\, D'Iberville\, MS\, 39540\, United States
END:VEVENT
BEGIN:VEVENT
DTSTART;TZID=UTC:20250212T100000
DTEND;TZID=UTC:20250212T120000
DTSTAMP:20260421T015017
CREATED:20231207T205719Z
LAST-MODIFIED:20240430T225655Z
UID:10001376-1739354400-1739361600@www.cypresslanesms.com
SUMMARY:Wednesday Prime Timer's League Bowling
DESCRIPTION:EVERY Wednesday from 10:00am to 12:00pm. Please call for availability.
URL:https://www.cypresslanesms.com/event/wednesday-prime-timers-league-bowling-2/2025-02-12/
LOCATION:MS
END:VEVENT
BEGIN:VEVENT
DTSTART;TZID=UTC:20250212T183000
DTEND;TZID=UTC:20250212T213000
DTSTAMP:20260421T015017
CREATED:20231207T205954Z
LAST-MODIFIED:20231207T205954Z
UID:10001637-1739385000-1739395800@www.cypresslanesms.com
SUMMARY:Wednesday Night Mixed League Bowling
DESCRIPTION:EVERY Wednesday from 6:30pm to 9:30pm. Please call for availability\,
URL:https://www.cypresslanesms.com/event/wednesday-night-mixed-league-bowling/2025-02-12/
LOCATION:Cypress Lanes\, 3200 Mallett Road\, D'Iberville\, MS\, 39540\, United States
END:VEVENT
BEGIN:VEVENT
DTSTART;TZID=UTC:20250213T100000
DTEND;TZID=UTC:20250213T123000
DTSTAMP:20260421T015017
CREATED:20231207T210224Z
LAST-MODIFIED:20240430T225609Z
UID:10001898-1739440800-1739449800@www.cypresslanesms.com
SUMMARY:Thursday Senior League Bowling
DESCRIPTION:EVERY Thursday from 10:00am to 12:30pm. Please call for availability.
URL:https://www.cypresslanesms.com/event/thursday-senior-league-bowling/2025-02-13/
LOCATION:MS
END:VEVENT
BEGIN:VEVENT
DTSTART;TZID=UTC:20250213T183000
DTEND;TZID=UTC:20250213T220000
DTSTAMP:20260421T015017
CREATED:20231207T210353Z
LAST-MODIFIED:20231207T210353Z
UID:10002159-1739471400-1739484000@www.cypresslanesms.com
SUMMARY:Thursday Night Mixed League
DESCRIPTION:EVERY Thursday from 6:30pm to 10:00pm. Please call for availability.
URL:https://www.cypresslanesms.com/event/thursday-night-mixed-league/2025-02-13/
LOCATION:MS
END:VEVENT
BEGIN:VEVENT
DTSTART;TZID=UTC:20250215T100000
DTEND;TZID=UTC:20250215T113000
DTSTAMP:20260421T015017
CREATED:20231207T194422Z
LAST-MODIFIED:20231207T205505Z
UID:10000064-1739613600-1739619000@www.cypresslanesms.com
SUMMARY:Alley Cats League Bowling
DESCRIPTION:EVERY Saturday from 10:00am to 11:30am. Please call for Availability.
URL:https://www.cypresslanesms.com/event/alley-cats-league-bowling/2025-02-15/
LOCATION:Cypress Lanes\, 3200 Mallett Road\, D'Iberville\, MS\, 39540\, United States
END:VEVENT
BEGIN:VEVENT
DTSTART;TZID=UTC:20250215T110000
DTEND;TZID=UTC:20250215T190000
DTSTAMP:20260421T015017
CREATED:20241106T194723Z
LAST-MODIFIED:20241106T194723Z
UID:10003477-1739617200-1739646000@www.cypresslanesms.com
SUMMARY:Cypress Lanes Birthday Parties
DESCRIPTION:Party Times:\n11am to 1pm\n2pm to 4pm\n5pm to 7pm \nCALL FOR AVAILABILITY
URL:https://www.cypresslanesms.com/event/cypress-lanes-birthday-parties/2025-02-15/
LOCATION:Cypress Lanes\, 3200 Mallett Road\, D'Iberville\, MS\, 39540\, United States
END:VEVENT
BEGIN:VEVENT
DTSTART;TZID=UTC:20250216T090000
DTEND;TZID=UTC:20250216T103000
DTSTAMP:20260421T015017
CREATED:20231207T211415Z
LAST-MODIFIED:20240203T202616Z
UID:10002801-1739696400-1739701800@www.cypresslanesms.com
SUMMARY:Youth League Bowling
DESCRIPTION:EVERY Sunday from 6:00pm to 7:00pm. Please call for availability\,
URL:https://www.cypresslanesms.com/event/youth-league-bowling/2025-02-16/
LOCATION:Cypress Lanes\, 3200 Mallett Road\, D'Iberville\, MS\, 39540\, United States
END:VEVENT
BEGIN:VEVENT
DTSTART;TZID=UTC:20250216T110000
DTEND;TZID=UTC:20250216T190000
DTSTAMP:20260421T015017
CREATED:20241106T194809Z
LAST-MODIFIED:20241106T194828Z
UID:10004001-1739703600-1739732400@www.cypresslanesms.com
SUMMARY:Cypress Lanes Birthday Parties
DESCRIPTION:Party Times:\n11am to 1pm\n2pm to 4pm\n5pm to 7pm \nCALL FOR AVAILABILITY
URL:https://www.cypresslanesms.com/event/cypress-lanes-birthday-parties-2/2025-02-16/
LOCATION:Cypress Lanes\, 3200 Mallett Road\, D'Iberville\, MS\, 39540\, United States
END:VEVENT
BEGIN:VEVENT
DTSTART;TZID=UTC:20250218T123000
DTEND;TZID=UTC:20250218T160000
DTSTAMP:20260421T015017
CREATED:20231207T202358Z
LAST-MODIFIED:20231207T205318Z
UID:10000586-1739881800-1739894400@www.cypresslanesms.com
SUMMARY:Tuesday Seniors League Bowling
DESCRIPTION:EVERY Tuesday from 12:30pm to 4:00pm. Please call for Availability.
URL:https://www.cypresslanesms.com/event/tuesday-seniors-league-bowling/2025-02-18/
LOCATION:Cypress Lanes\, 3200 Mallett Road\, D'Iberville\, MS\, 39540\, United States
END:VEVENT
BEGIN:VEVENT
DTSTART;TZID=UTC:20250218T183000
DTEND;TZID=UTC:20250218T213000
DTSTAMP:20260421T015017
CREATED:20231207T203618Z
LAST-MODIFIED:20231207T203618Z
UID:10000847-1739903400-1739914200@www.cypresslanesms.com
SUMMARY:Tuesday Mixed League Bowling
DESCRIPTION:EVERY Tuesday from 6:30pm to 9:30pm. Please call for Availability.
URL:https://www.cypresslanesms.com/event/tuesday-mixed-league-bowling/2025-02-18/
LOCATION:Cypress Lanes\, 3200 Mallett Road\, D'Iberville\, MS\, 39540\, United States
END:VEVENT
BEGIN:VEVENT
DTSTART;TZID=UTC:20250219T100000
DTEND;TZID=UTC:20250219T120000
DTSTAMP:20260421T015017
CREATED:20231207T205719Z
LAST-MODIFIED:20240430T225655Z
UID:10001377-1739959200-1739966400@www.cypresslanesms.com
SUMMARY:Wednesday Prime Timer's League Bowling
DESCRIPTION:EVERY Wednesday from 10:00am to 12:00pm. Please call for availability.
URL:https://www.cypresslanesms.com/event/wednesday-prime-timers-league-bowling-2/2025-02-19/
LOCATION:MS
END:VEVENT
BEGIN:VEVENT
DTSTART;TZID=UTC:20250219T183000
DTEND;TZID=UTC:20250219T213000
DTSTAMP:20260421T015017
CREATED:20231207T205954Z
LAST-MODIFIED:20231207T205954Z
UID:10001638-1739989800-1740000600@www.cypresslanesms.com
SUMMARY:Wednesday Night Mixed League Bowling
DESCRIPTION:EVERY Wednesday from 6:30pm to 9:30pm. Please call for availability\,
URL:https://www.cypresslanesms.com/event/wednesday-night-mixed-league-bowling/2025-02-19/
LOCATION:Cypress Lanes\, 3200 Mallett Road\, D'Iberville\, MS\, 39540\, United States
END:VEVENT
BEGIN:VEVENT
DTSTART;TZID=UTC:20250220T100000
DTEND;TZID=UTC:20250220T123000
DTSTAMP:20260421T015017
CREATED:20231207T210224Z
LAST-MODIFIED:20240430T225609Z
UID:10001899-1740045600-1740054600@www.cypresslanesms.com
SUMMARY:Thursday Senior League Bowling
DESCRIPTION:EVERY Thursday from 10:00am to 12:30pm. Please call for availability.
URL:https://www.cypresslanesms.com/event/thursday-senior-league-bowling/2025-02-20/
LOCATION:MS
END:VEVENT
BEGIN:VEVENT
DTSTART;TZID=UTC:20250220T183000
DTEND;TZID=UTC:20250220T220000
DTSTAMP:20260421T015017
CREATED:20231207T210353Z
LAST-MODIFIED:20231207T210353Z
UID:10002160-1740076200-1740088800@www.cypresslanesms.com
SUMMARY:Thursday Night Mixed League
DESCRIPTION:EVERY Thursday from 6:30pm to 10:00pm. Please call for availability.
URL:https://www.cypresslanesms.com/event/thursday-night-mixed-league/2025-02-20/
LOCATION:MS
END:VEVENT
BEGIN:VEVENT
DTSTART;TZID=UTC:20250222T100000
DTEND;TZID=UTC:20250222T113000
DTSTAMP:20260421T015017
CREATED:20231207T194422Z
LAST-MODIFIED:20231207T205505Z
UID:10000065-1740218400-1740223800@www.cypresslanesms.com
SUMMARY:Alley Cats League Bowling
DESCRIPTION:EVERY Saturday from 10:00am to 11:30am. Please call for Availability.
URL:https://www.cypresslanesms.com/event/alley-cats-league-bowling/2025-02-22/
LOCATION:Cypress Lanes\, 3200 Mallett Road\, D'Iberville\, MS\, 39540\, United States
END:VEVENT
BEGIN:VEVENT
DTSTART;TZID=UTC:20250222T110000
DTEND;TZID=UTC:20250222T190000
DTSTAMP:20260421T015017
CREATED:20241106T194723Z
LAST-MODIFIED:20241106T194723Z
UID:10003478-1740222000-1740250800@www.cypresslanesms.com
SUMMARY:Cypress Lanes Birthday Parties
DESCRIPTION:Party Times:\n11am to 1pm\n2pm to 4pm\n5pm to 7pm \nCALL FOR AVAILABILITY
URL:https://www.cypresslanesms.com/event/cypress-lanes-birthday-parties/2025-02-22/
LOCATION:Cypress Lanes\, 3200 Mallett Road\, D'Iberville\, MS\, 39540\, United States
END:VEVENT
BEGIN:VEVENT
DTSTART;TZID=UTC:20250223T090000
DTEND;TZID=UTC:20250223T103000
DTSTAMP:20260421T015017
CREATED:20231207T211415Z
LAST-MODIFIED:20240203T202616Z
UID:10002802-1740301200-1740306600@www.cypresslanesms.com
SUMMARY:Youth League Bowling
DESCRIPTION:EVERY Sunday from 6:00pm to 7:00pm. Please call for availability\,
URL:https://www.cypresslanesms.com/event/youth-league-bowling/2025-02-23/
LOCATION:Cypress Lanes\, 3200 Mallett Road\, D'Iberville\, MS\, 39540\, United States
END:VEVENT
BEGIN:VEVENT
DTSTART;TZID=UTC:20250223T110000
DTEND;TZID=UTC:20250223T190000
DTSTAMP:20260421T015017
CREATED:20241106T194809Z
LAST-MODIFIED:20241106T194828Z
UID:10004002-1740308400-1740337200@www.cypresslanesms.com
SUMMARY:Cypress Lanes Birthday Parties
DESCRIPTION:Party Times:\n11am to 1pm\n2pm to 4pm\n5pm to 7pm \nCALL FOR AVAILABILITY
URL:https://www.cypresslanesms.com/event/cypress-lanes-birthday-parties-2/2025-02-23/
LOCATION:Cypress Lanes\, 3200 Mallett Road\, D'Iberville\, MS\, 39540\, United States
END:VEVENT
BEGIN:VEVENT
DTSTART;TZID=UTC:20250225T123000
DTEND;TZID=UTC:20250225T160000
DTSTAMP:20260421T015017
CREATED:20231207T202358Z
LAST-MODIFIED:20231207T205318Z
UID:10000587-1740486600-1740499200@www.cypresslanesms.com
SUMMARY:Tuesday Seniors League Bowling
DESCRIPTION:EVERY Tuesday from 12:30pm to 4:00pm. Please call for Availability.
URL:https://www.cypresslanesms.com/event/tuesday-seniors-league-bowling/2025-02-25/
LOCATION:Cypress Lanes\, 3200 Mallett Road\, D'Iberville\, MS\, 39540\, United States
END:VEVENT
BEGIN:VEVENT
DTSTART;TZID=UTC:20250225T183000
DTEND;TZID=UTC:20250225T213000
DTSTAMP:20260421T015017
CREATED:20231207T203618Z
LAST-MODIFIED:20231207T203618Z
UID:10000848-1740508200-1740519000@www.cypresslanesms.com
SUMMARY:Tuesday Mixed League Bowling
DESCRIPTION:EVERY Tuesday from 6:30pm to 9:30pm. Please call for Availability.
URL:https://www.cypresslanesms.com/event/tuesday-mixed-league-bowling/2025-02-25/
LOCATION:Cypress Lanes\, 3200 Mallett Road\, D'Iberville\, MS\, 39540\, United States
END:VEVENT
BEGIN:VEVENT
DTSTART;TZID=UTC:20250226T100000
DTEND;TZID=UTC:20250226T120000
DTSTAMP:20260421T015017
CREATED:20231207T205719Z
LAST-MODIFIED:20240430T225655Z
UID:10001378-1740564000-1740571200@www.cypresslanesms.com
SUMMARY:Wednesday Prime Timer's League Bowling
DESCRIPTION:EVERY Wednesday from 10:00am to 12:00pm. Please call for availability.
URL:https://www.cypresslanesms.com/event/wednesday-prime-timers-league-bowling-2/2025-02-26/
LOCATION:MS
END:VEVENT
BEGIN:VEVENT
DTSTART;TZID=UTC:20250226T183000
DTEND;TZID=UTC:20250226T213000
DTSTAMP:20260421T015017
CREATED:20231207T205954Z
LAST-MODIFIED:20231207T205954Z
UID:10001639-1740594600-1740605400@www.cypresslanesms.com
SUMMARY:Wednesday Night Mixed League Bowling
DESCRIPTION:EVERY Wednesday from 6:30pm to 9:30pm. Please call for availability\,
URL:https://www.cypresslanesms.com/event/wednesday-night-mixed-league-bowling/2025-02-26/
LOCATION:Cypress Lanes\, 3200 Mallett Road\, D'Iberville\, MS\, 39540\, United States
END:VEVENT
BEGIN:VEVENT
DTSTART;TZID=UTC:20250227T100000
DTEND;TZID=UTC:20250227T123000
DTSTAMP:20260421T015017
CREATED:20231207T210224Z
LAST-MODIFIED:20240430T225609Z
UID:10001900-1740650400-1740659400@www.cypresslanesms.com
SUMMARY:Thursday Senior League Bowling
DESCRIPTION:EVERY Thursday from 10:00am to 12:30pm. Please call for availability.
URL:https://www.cypresslanesms.com/event/thursday-senior-league-bowling/2025-02-27/
LOCATION:MS
END:VEVENT
END:VCALENDAR