BEGIN:VCALENDAR
VERSION:2.0
PRODID:-//Cypress Lanes - ECPv6.15.20//NONSGML v1.0//EN
CALSCALE:GREGORIAN
METHOD:PUBLISH
X-WR-CALNAME:Cypress Lanes
X-ORIGINAL-URL:https://www.cypresslanesms.com
X-WR-CALDESC:Events for Cypress Lanes
REFRESH-INTERVAL;VALUE=DURATION:PT1H
X-Robots-Tag:noindex
X-PUBLISHED-TTL:PT1H
BEGIN:VTIMEZONE
TZID:UTC
BEGIN:STANDARD
TZOFFSETFROM:+0000
TZOFFSETTO:+0000
TZNAME:UTC
DTSTART:20230101T000000
END:STANDARD
END:VTIMEZONE
BEGIN:VEVENT
DTSTART;TZID=UTC:20240127T100000
DTEND;TZID=UTC:20240127T113000
DTSTAMP:20260422T012804
CREATED:20231207T194422Z
LAST-MODIFIED:20231207T205505Z
UID:10000009-1706349600-1706355000@www.cypresslanesms.com
SUMMARY:Alley Cats League Bowling
DESCRIPTION:EVERY Saturday from 10:00am to 11:30am. Please call for Availability.
URL:https://www.cypresslanesms.com/event/alley-cats-league-bowling/2024-01-27/
LOCATION:Cypress Lanes\, 3200 Mallett Road\, D'Iberville\, MS\, 39540\, United States
END:VEVENT
BEGIN:VEVENT
DTSTART;TZID=UTC:20240125T183000
DTEND;TZID=UTC:20240125T220000
DTSTAMP:20260422T012804
CREATED:20231207T210353Z
LAST-MODIFIED:20231207T210353Z
UID:10002104-1706207400-1706220000@www.cypresslanesms.com
SUMMARY:Thursday Night Mixed League
DESCRIPTION:EVERY Thursday from 6:30pm to 10:00pm. Please call for availability.
URL:https://www.cypresslanesms.com/event/thursday-night-mixed-league/2024-01-25/
LOCATION:MS
END:VEVENT
BEGIN:VEVENT
DTSTART;TZID=UTC:20240125T100000
DTEND;TZID=UTC:20240125T123000
DTSTAMP:20260422T012804
CREATED:20231207T210224Z
LAST-MODIFIED:20240430T225609Z
UID:10001843-1706176800-1706185800@www.cypresslanesms.com
SUMMARY:Thursday Senior League Bowling
DESCRIPTION:EVERY Thursday from 10:00am to 12:30pm. Please call for availability.
URL:https://www.cypresslanesms.com/event/thursday-senior-league-bowling/2024-01-25/
LOCATION:MS
END:VEVENT
BEGIN:VEVENT
DTSTART;TZID=UTC:20240124T183000
DTEND;TZID=UTC:20240124T213000
DTSTAMP:20260422T012804
CREATED:20231207T205954Z
LAST-MODIFIED:20231207T205954Z
UID:10001582-1706121000-1706131800@www.cypresslanesms.com
SUMMARY:Wednesday Night Mixed League Bowling
DESCRIPTION:EVERY Wednesday from 6:30pm to 9:30pm. Please call for availability\,
URL:https://www.cypresslanesms.com/event/wednesday-night-mixed-league-bowling/2024-01-24/
LOCATION:Cypress Lanes\, 3200 Mallett Road\, D'Iberville\, MS\, 39540\, United States
END:VEVENT
BEGIN:VEVENT
DTSTART;TZID=UTC:20240124T100000
DTEND;TZID=UTC:20240124T120000
DTSTAMP:20260422T012804
CREATED:20231207T205719Z
LAST-MODIFIED:20240430T225655Z
UID:10001321-1706090400-1706097600@www.cypresslanesms.com
SUMMARY:Wednesday Prime Timer's League Bowling
DESCRIPTION:EVERY Wednesday from 10:00am to 12:00pm. Please call for availability.
URL:https://www.cypresslanesms.com/event/wednesday-prime-timers-league-bowling-2/2024-01-24/
LOCATION:MS
END:VEVENT
BEGIN:VEVENT
DTSTART;TZID=UTC:20240123T183000
DTEND;TZID=UTC:20240123T213000
DTSTAMP:20260422T012804
CREATED:20231207T203618Z
LAST-MODIFIED:20231207T203618Z
UID:10000791-1706034600-1706045400@www.cypresslanesms.com
SUMMARY:Tuesday Mixed League Bowling
DESCRIPTION:EVERY Tuesday from 6:30pm to 9:30pm. Please call for Availability.
URL:https://www.cypresslanesms.com/event/tuesday-mixed-league-bowling/2024-01-23/
LOCATION:Cypress Lanes\, 3200 Mallett Road\, D'Iberville\, MS\, 39540\, United States
END:VEVENT
BEGIN:VEVENT
DTSTART;TZID=UTC:20240123T123000
DTEND;TZID=UTC:20240123T160000
DTSTAMP:20260422T012804
CREATED:20231207T202358Z
LAST-MODIFIED:20231207T205318Z
UID:10000530-1706013000-1706025600@www.cypresslanesms.com
SUMMARY:Tuesday Seniors League Bowling
DESCRIPTION:EVERY Tuesday from 12:30pm to 4:00pm. Please call for Availability.
URL:https://www.cypresslanesms.com/event/tuesday-seniors-league-bowling/2024-01-23/
LOCATION:Cypress Lanes\, 3200 Mallett Road\, D'Iberville\, MS\, 39540\, United States
END:VEVENT
BEGIN:VEVENT
DTSTART;TZID=UTC:20240122T184500
DTEND;TZID=UTC:20240122T213000
DTSTAMP:20260422T012804
CREATED:20240203T200512Z
LAST-MODIFIED:20240203T200512Z
UID:10002710-1705949100-1705959000@www.cypresslanesms.com
SUMMARY:Mixed Super League
DESCRIPTION:Call for availability.
URL:https://www.cypresslanesms.com/event/mixed-super-league/2024-01-22/
LOCATION:Cypress Lanes\, 3200 Mallett Road\, D'Iberville\, MS\, 39540\, United States
END:VEVENT
BEGIN:VEVENT
DTSTART;TZID=UTC:20240121T090000
DTEND;TZID=UTC:20240121T103000
DTSTAMP:20260422T012804
CREATED:20231207T211415Z
LAST-MODIFIED:20240203T202616Z
UID:10002745-1705827600-1705833000@www.cypresslanesms.com
SUMMARY:Youth League Bowling
DESCRIPTION:EVERY Sunday from 6:00pm to 7:00pm. Please call for availability\,
URL:https://www.cypresslanesms.com/event/youth-league-bowling/2024-01-21/
LOCATION:Cypress Lanes\, 3200 Mallett Road\, D'Iberville\, MS\, 39540\, United States
END:VEVENT
BEGIN:VEVENT
DTSTART;TZID=UTC:20240120T100000
DTEND;TZID=UTC:20240120T113000
DTSTAMP:20260422T012804
CREATED:20231207T194422Z
LAST-MODIFIED:20231207T205505Z
UID:10000008-1705744800-1705750200@www.cypresslanesms.com
SUMMARY:Alley Cats League Bowling
DESCRIPTION:EVERY Saturday from 10:00am to 11:30am. Please call for Availability.
URL:https://www.cypresslanesms.com/event/alley-cats-league-bowling/2024-01-20/
LOCATION:Cypress Lanes\, 3200 Mallett Road\, D'Iberville\, MS\, 39540\, United States
END:VEVENT
BEGIN:VEVENT
DTSTART;TZID=UTC:20240118T183000
DTEND;TZID=UTC:20240118T220000
DTSTAMP:20260422T012804
CREATED:20231207T210353Z
LAST-MODIFIED:20231207T210353Z
UID:10002103-1705602600-1705615200@www.cypresslanesms.com
SUMMARY:Thursday Night Mixed League
DESCRIPTION:EVERY Thursday from 6:30pm to 10:00pm. Please call for availability.
URL:https://www.cypresslanesms.com/event/thursday-night-mixed-league/2024-01-18/
LOCATION:MS
END:VEVENT
BEGIN:VEVENT
DTSTART;TZID=UTC:20240118T100000
DTEND;TZID=UTC:20240118T123000
DTSTAMP:20260422T012804
CREATED:20231207T210224Z
LAST-MODIFIED:20240430T225609Z
UID:10001842-1705572000-1705581000@www.cypresslanesms.com
SUMMARY:Thursday Senior League Bowling
DESCRIPTION:EVERY Thursday from 10:00am to 12:30pm. Please call for availability.
URL:https://www.cypresslanesms.com/event/thursday-senior-league-bowling/2024-01-18/
LOCATION:MS
END:VEVENT
BEGIN:VEVENT
DTSTART;TZID=UTC:20240117T183000
DTEND;TZID=UTC:20240117T213000
DTSTAMP:20260422T012804
CREATED:20231207T205954Z
LAST-MODIFIED:20231207T205954Z
UID:10001581-1705516200-1705527000@www.cypresslanesms.com
SUMMARY:Wednesday Night Mixed League Bowling
DESCRIPTION:EVERY Wednesday from 6:30pm to 9:30pm. Please call for availability\,
URL:https://www.cypresslanesms.com/event/wednesday-night-mixed-league-bowling/2024-01-17/
LOCATION:Cypress Lanes\, 3200 Mallett Road\, D'Iberville\, MS\, 39540\, United States
END:VEVENT
BEGIN:VEVENT
DTSTART;TZID=UTC:20240117T100000
DTEND;TZID=UTC:20240117T120000
DTSTAMP:20260422T012804
CREATED:20231207T205719Z
LAST-MODIFIED:20240430T225655Z
UID:10001320-1705485600-1705492800@www.cypresslanesms.com
SUMMARY:Wednesday Prime Timer's League Bowling
DESCRIPTION:EVERY Wednesday from 10:00am to 12:00pm. Please call for availability.
URL:https://www.cypresslanesms.com/event/wednesday-prime-timers-league-bowling-2/2024-01-17/
LOCATION:MS
END:VEVENT
BEGIN:VEVENT
DTSTART;TZID=UTC:20240116T183000
DTEND;TZID=UTC:20240116T213000
DTSTAMP:20260422T012804
CREATED:20231207T203618Z
LAST-MODIFIED:20231207T203618Z
UID:10000790-1705429800-1705440600@www.cypresslanesms.com
SUMMARY:Tuesday Mixed League Bowling
DESCRIPTION:EVERY Tuesday from 6:30pm to 9:30pm. Please call for Availability.
URL:https://www.cypresslanesms.com/event/tuesday-mixed-league-bowling/2024-01-16/
LOCATION:Cypress Lanes\, 3200 Mallett Road\, D'Iberville\, MS\, 39540\, United States
END:VEVENT
BEGIN:VEVENT
DTSTART;TZID=UTC:20240116T123000
DTEND;TZID=UTC:20240116T160000
DTSTAMP:20260422T012804
CREATED:20231207T202358Z
LAST-MODIFIED:20231207T205318Z
UID:10000529-1705408200-1705420800@www.cypresslanesms.com
SUMMARY:Tuesday Seniors League Bowling
DESCRIPTION:EVERY Tuesday from 12:30pm to 4:00pm. Please call for Availability.
URL:https://www.cypresslanesms.com/event/tuesday-seniors-league-bowling/2024-01-16/
LOCATION:Cypress Lanes\, 3200 Mallett Road\, D'Iberville\, MS\, 39540\, United States
END:VEVENT
BEGIN:VEVENT
DTSTART;TZID=UTC:20240115T184500
DTEND;TZID=UTC:20240115T213000
DTSTAMP:20260422T012804
CREATED:20240203T200512Z
LAST-MODIFIED:20240203T200512Z
UID:10002709-1705344300-1705354200@www.cypresslanesms.com
SUMMARY:Mixed Super League
DESCRIPTION:Call for availability.
URL:https://www.cypresslanesms.com/event/mixed-super-league/2024-01-15/
LOCATION:Cypress Lanes\, 3200 Mallett Road\, D'Iberville\, MS\, 39540\, United States
END:VEVENT
BEGIN:VEVENT
DTSTART;TZID=UTC:20240114T090000
DTEND;TZID=UTC:20240114T103000
DTSTAMP:20260422T012804
CREATED:20231207T211415Z
LAST-MODIFIED:20240203T202616Z
UID:10002744-1705222800-1705228200@www.cypresslanesms.com
SUMMARY:Youth League Bowling
DESCRIPTION:EVERY Sunday from 6:00pm to 7:00pm. Please call for availability\,
URL:https://www.cypresslanesms.com/event/youth-league-bowling/2024-01-14/
LOCATION:Cypress Lanes\, 3200 Mallett Road\, D'Iberville\, MS\, 39540\, United States
END:VEVENT
BEGIN:VEVENT
DTSTART;TZID=UTC:20240113T100000
DTEND;TZID=UTC:20240113T113000
DTSTAMP:20260422T012804
CREATED:20231207T194422Z
LAST-MODIFIED:20231207T205505Z
UID:10000007-1705140000-1705145400@www.cypresslanesms.com
SUMMARY:Alley Cats League Bowling
DESCRIPTION:EVERY Saturday from 10:00am to 11:30am. Please call for Availability.
URL:https://www.cypresslanesms.com/event/alley-cats-league-bowling/2024-01-13/
LOCATION:Cypress Lanes\, 3200 Mallett Road\, D'Iberville\, MS\, 39540\, United States
END:VEVENT
BEGIN:VEVENT
DTSTART;TZID=UTC:20240111T183000
DTEND;TZID=UTC:20240111T220000
DTSTAMP:20260422T012804
CREATED:20231207T210353Z
LAST-MODIFIED:20231207T210353Z
UID:10002102-1704997800-1705010400@www.cypresslanesms.com
SUMMARY:Thursday Night Mixed League
DESCRIPTION:EVERY Thursday from 6:30pm to 10:00pm. Please call for availability.
URL:https://www.cypresslanesms.com/event/thursday-night-mixed-league/2024-01-11/
LOCATION:MS
END:VEVENT
BEGIN:VEVENT
DTSTART;TZID=UTC:20240111T100000
DTEND;TZID=UTC:20240111T123000
DTSTAMP:20260422T012804
CREATED:20231207T210224Z
LAST-MODIFIED:20240430T225609Z
UID:10001841-1704967200-1704976200@www.cypresslanesms.com
SUMMARY:Thursday Senior League Bowling
DESCRIPTION:EVERY Thursday from 10:00am to 12:30pm. Please call for availability.
URL:https://www.cypresslanesms.com/event/thursday-senior-league-bowling/2024-01-11/
LOCATION:MS
END:VEVENT
BEGIN:VEVENT
DTSTART;TZID=UTC:20240110T183000
DTEND;TZID=UTC:20240110T213000
DTSTAMP:20260422T012804
CREATED:20231207T205954Z
LAST-MODIFIED:20231207T205954Z
UID:10001580-1704911400-1704922200@www.cypresslanesms.com
SUMMARY:Wednesday Night Mixed League Bowling
DESCRIPTION:EVERY Wednesday from 6:30pm to 9:30pm. Please call for availability\,
URL:https://www.cypresslanesms.com/event/wednesday-night-mixed-league-bowling/2024-01-10/
LOCATION:Cypress Lanes\, 3200 Mallett Road\, D'Iberville\, MS\, 39540\, United States
END:VEVENT
BEGIN:VEVENT
DTSTART;TZID=UTC:20240110T100000
DTEND;TZID=UTC:20240110T120000
DTSTAMP:20260422T012804
CREATED:20231207T205719Z
LAST-MODIFIED:20240430T225655Z
UID:10001319-1704880800-1704888000@www.cypresslanesms.com
SUMMARY:Wednesday Prime Timer's League Bowling
DESCRIPTION:EVERY Wednesday from 10:00am to 12:00pm. Please call for availability.
URL:https://www.cypresslanesms.com/event/wednesday-prime-timers-league-bowling-2/2024-01-10/
LOCATION:MS
END:VEVENT
BEGIN:VEVENT
DTSTART;TZID=UTC:20240109T183000
DTEND;TZID=UTC:20240109T213000
DTSTAMP:20260422T012804
CREATED:20231207T203618Z
LAST-MODIFIED:20231207T203618Z
UID:10000789-1704825000-1704835800@www.cypresslanesms.com
SUMMARY:Tuesday Mixed League Bowling
DESCRIPTION:EVERY Tuesday from 6:30pm to 9:30pm. Please call for Availability.
URL:https://www.cypresslanesms.com/event/tuesday-mixed-league-bowling/2024-01-09/
LOCATION:Cypress Lanes\, 3200 Mallett Road\, D'Iberville\, MS\, 39540\, United States
END:VEVENT
BEGIN:VEVENT
DTSTART;TZID=UTC:20240109T123000
DTEND;TZID=UTC:20240109T160000
DTSTAMP:20260422T012804
CREATED:20231207T202358Z
LAST-MODIFIED:20231207T205318Z
UID:10000528-1704803400-1704816000@www.cypresslanesms.com
SUMMARY:Tuesday Seniors League Bowling
DESCRIPTION:EVERY Tuesday from 12:30pm to 4:00pm. Please call for Availability.
URL:https://www.cypresslanesms.com/event/tuesday-seniors-league-bowling/2024-01-09/
LOCATION:Cypress Lanes\, 3200 Mallett Road\, D'Iberville\, MS\, 39540\, United States
END:VEVENT
BEGIN:VEVENT
DTSTART;TZID=UTC:20240108T184500
DTEND;TZID=UTC:20240108T213000
DTSTAMP:20260422T012804
CREATED:20240203T200512Z
LAST-MODIFIED:20240203T200512Z
UID:10002708-1704739500-1704749400@www.cypresslanesms.com
SUMMARY:Mixed Super League
DESCRIPTION:Call for availability.
URL:https://www.cypresslanesms.com/event/mixed-super-league/2024-01-08/
LOCATION:Cypress Lanes\, 3200 Mallett Road\, D'Iberville\, MS\, 39540\, United States
END:VEVENT
BEGIN:VEVENT
DTSTART;TZID=UTC:20240107T090000
DTEND;TZID=UTC:20240107T103000
DTSTAMP:20260422T012804
CREATED:20231207T211415Z
LAST-MODIFIED:20240203T202616Z
UID:10002743-1704618000-1704623400@www.cypresslanesms.com
SUMMARY:Youth League Bowling
DESCRIPTION:EVERY Sunday from 6:00pm to 7:00pm. Please call for availability\,
URL:https://www.cypresslanesms.com/event/youth-league-bowling/2024-01-07/
LOCATION:Cypress Lanes\, 3200 Mallett Road\, D'Iberville\, MS\, 39540\, United States
END:VEVENT
BEGIN:VEVENT
DTSTART;TZID=UTC:20240106T100000
DTEND;TZID=UTC:20240106T113000
DTSTAMP:20260422T012804
CREATED:20231207T194422Z
LAST-MODIFIED:20231207T205505Z
UID:10000006-1704535200-1704540600@www.cypresslanesms.com
SUMMARY:Alley Cats League Bowling
DESCRIPTION:EVERY Saturday from 10:00am to 11:30am. Please call for Availability.
URL:https://www.cypresslanesms.com/event/alley-cats-league-bowling/2024-01-06/
LOCATION:Cypress Lanes\, 3200 Mallett Road\, D'Iberville\, MS\, 39540\, United States
END:VEVENT
BEGIN:VEVENT
DTSTART;TZID=UTC:20240104T183000
DTEND;TZID=UTC:20240104T220000
DTSTAMP:20260422T012804
CREATED:20231207T210353Z
LAST-MODIFIED:20231207T210353Z
UID:10002101-1704393000-1704405600@www.cypresslanesms.com
SUMMARY:Thursday Night Mixed League
DESCRIPTION:EVERY Thursday from 6:30pm to 10:00pm. Please call for availability.
URL:https://www.cypresslanesms.com/event/thursday-night-mixed-league/2024-01-04/
LOCATION:MS
END:VEVENT
BEGIN:VEVENT
DTSTART;TZID=UTC:20240104T100000
DTEND;TZID=UTC:20240104T123000
DTSTAMP:20260422T012804
CREATED:20231207T210224Z
LAST-MODIFIED:20240430T225609Z
UID:10001840-1704362400-1704371400@www.cypresslanesms.com
SUMMARY:Thursday Senior League Bowling
DESCRIPTION:EVERY Thursday from 10:00am to 12:30pm. Please call for availability.
URL:https://www.cypresslanesms.com/event/thursday-senior-league-bowling/2024-01-04/
LOCATION:MS
END:VEVENT
END:VCALENDAR