BEGIN:VCALENDAR
VERSION:2.0
PRODID:-//Cypress Lanes - ECPv6.15.20//NONSGML v1.0//EN
CALSCALE:GREGORIAN
METHOD:PUBLISH
X-WR-CALNAME:Cypress Lanes
X-ORIGINAL-URL:https://www.cypresslanesms.com
X-WR-CALDESC:Events for Cypress Lanes
REFRESH-INTERVAL;VALUE=DURATION:PT1H
X-Robots-Tag:noindex
X-PUBLISHED-TTL:PT1H
BEGIN:VTIMEZONE
TZID:UTC
BEGIN:STANDARD
TZOFFSETFROM:+0000
TZOFFSETTO:+0000
TZNAME:UTC
DTSTART:20230101T000000
END:STANDARD
END:VTIMEZONE
BEGIN:VEVENT
DTSTART;TZID=UTC:20240208T183000
DTEND;TZID=UTC:20240208T220000
DTSTAMP:20260422T010946
CREATED:20231207T210353Z
LAST-MODIFIED:20231207T210353Z
UID:10002106-1707417000-1707429600@www.cypresslanesms.com
SUMMARY:Thursday Night Mixed League
DESCRIPTION:EVERY Thursday from 6:30pm to 10:00pm. Please call for availability.
URL:https://www.cypresslanesms.com/event/thursday-night-mixed-league/2024-02-08/
LOCATION:MS
END:VEVENT
BEGIN:VEVENT
DTSTART;TZID=UTC:20240208T100000
DTEND;TZID=UTC:20240208T123000
DTSTAMP:20260422T010946
CREATED:20231207T210224Z
LAST-MODIFIED:20240430T225609Z
UID:10001845-1707386400-1707395400@www.cypresslanesms.com
SUMMARY:Thursday Senior League Bowling
DESCRIPTION:EVERY Thursday from 10:00am to 12:30pm. Please call for availability.
URL:https://www.cypresslanesms.com/event/thursday-senior-league-bowling/2024-02-08/
LOCATION:MS
END:VEVENT
BEGIN:VEVENT
DTSTART;TZID=UTC:20240207T183000
DTEND;TZID=UTC:20240207T213000
DTSTAMP:20260422T010946
CREATED:20231207T205954Z
LAST-MODIFIED:20231207T205954Z
UID:10001584-1707330600-1707341400@www.cypresslanesms.com
SUMMARY:Wednesday Night Mixed League Bowling
DESCRIPTION:EVERY Wednesday from 6:30pm to 9:30pm. Please call for availability\,
URL:https://www.cypresslanesms.com/event/wednesday-night-mixed-league-bowling/2024-02-07/
LOCATION:Cypress Lanes\, 3200 Mallett Road\, D'Iberville\, MS\, 39540\, United States
END:VEVENT
BEGIN:VEVENT
DTSTART;TZID=UTC:20240207T100000
DTEND;TZID=UTC:20240207T120000
DTSTAMP:20260422T010946
CREATED:20231207T205719Z
LAST-MODIFIED:20240430T225655Z
UID:10001323-1707300000-1707307200@www.cypresslanesms.com
SUMMARY:Wednesday Prime Timer's League Bowling
DESCRIPTION:EVERY Wednesday from 10:00am to 12:00pm. Please call for availability.
URL:https://www.cypresslanesms.com/event/wednesday-prime-timers-league-bowling-2/2024-02-07/
LOCATION:MS
END:VEVENT
BEGIN:VEVENT
DTSTART;TZID=UTC:20240206T183000
DTEND;TZID=UTC:20240206T213000
DTSTAMP:20260422T010946
CREATED:20231207T203618Z
LAST-MODIFIED:20231207T203618Z
UID:10000793-1707244200-1707255000@www.cypresslanesms.com
SUMMARY:Tuesday Mixed League Bowling
DESCRIPTION:EVERY Tuesday from 6:30pm to 9:30pm. Please call for Availability.
URL:https://www.cypresslanesms.com/event/tuesday-mixed-league-bowling/2024-02-06/
LOCATION:Cypress Lanes\, 3200 Mallett Road\, D'Iberville\, MS\, 39540\, United States
END:VEVENT
BEGIN:VEVENT
DTSTART;TZID=UTC:20240206T123000
DTEND;TZID=UTC:20240206T160000
DTSTAMP:20260422T010946
CREATED:20231207T202358Z
LAST-MODIFIED:20231207T205318Z
UID:10000532-1707222600-1707235200@www.cypresslanesms.com
SUMMARY:Tuesday Seniors League Bowling
DESCRIPTION:EVERY Tuesday from 12:30pm to 4:00pm. Please call for Availability.
URL:https://www.cypresslanesms.com/event/tuesday-seniors-league-bowling/2024-02-06/
LOCATION:Cypress Lanes\, 3200 Mallett Road\, D'Iberville\, MS\, 39540\, United States
END:VEVENT
BEGIN:VEVENT
DTSTART;TZID=UTC:20240205T184500
DTEND;TZID=UTC:20240205T213000
DTSTAMP:20260422T010946
CREATED:20240203T200512Z
LAST-MODIFIED:20240203T200512Z
UID:10002712-1707158700-1707168600@www.cypresslanesms.com
SUMMARY:Mixed Super League
DESCRIPTION:Call for availability.
URL:https://www.cypresslanesms.com/event/mixed-super-league/2024-02-05/
LOCATION:Cypress Lanes\, 3200 Mallett Road\, D'Iberville\, MS\, 39540\, United States
END:VEVENT
BEGIN:VEVENT
DTSTART;TZID=UTC:20240204T090000
DTEND;TZID=UTC:20240204T170000
DTSTAMP:20260422T010946
CREATED:20240203T195715Z
LAST-MODIFIED:20240203T195850Z
UID:10002706-1707037200-1707066000@www.cypresslanesms.com
SUMMARY:S.W.A.C. East Roundup
DESCRIPTION:Competition Finals.
URL:https://www.cypresslanesms.com/event/s-w-a-c-east-roundup-4/
LOCATION:Cypress Lanes\, 3200 Mallett Road\, D'Iberville\, MS\, 39540\, United States
END:VEVENT
BEGIN:VEVENT
DTSTART;TZID=UTC:20240204T090000
DTEND;TZID=UTC:20240204T103000
DTSTAMP:20260422T010946
CREATED:20231207T211415Z
LAST-MODIFIED:20240203T202616Z
UID:10002747-1707037200-1707042600@www.cypresslanesms.com
SUMMARY:Youth League Bowling
DESCRIPTION:EVERY Sunday from 6:00pm to 7:00pm. Please call for availability\,
URL:https://www.cypresslanesms.com/event/youth-league-bowling/2024-02-04/
LOCATION:Cypress Lanes\, 3200 Mallett Road\, D'Iberville\, MS\, 39540\, United States
END:VEVENT
BEGIN:VEVENT
DTSTART;TZID=UTC:20240203T170000
DTEND;TZID=UTC:20240203T190000
DTSTAMP:20260422T010946
CREATED:20240203T195632Z
LAST-MODIFIED:20240203T195632Z
UID:10002705-1706979600-1706986800@www.cypresslanesms.com
SUMMARY:Birthday Party
DESCRIPTION:
URL:https://www.cypresslanesms.com/event/birthday-party-20/
LOCATION:Cypress Lanes\, 3200 Mallett Road\, D'Iberville\, MS\, 39540\, United States
END:VEVENT
BEGIN:VEVENT
DTSTART;TZID=UTC:20240203T100000
DTEND;TZID=UTC:20240203T113000
DTSTAMP:20260422T010946
CREATED:20231207T194422Z
LAST-MODIFIED:20231207T205505Z
UID:10000010-1706954400-1706959800@www.cypresslanesms.com
SUMMARY:Alley Cats League Bowling
DESCRIPTION:EVERY Saturday from 10:00am to 11:30am. Please call for Availability.
URL:https://www.cypresslanesms.com/event/alley-cats-league-bowling/2024-02-03/
LOCATION:Cypress Lanes\, 3200 Mallett Road\, D'Iberville\, MS\, 39540\, United States
END:VEVENT
BEGIN:VEVENT
DTSTART;TZID=UTC:20240203T090000
DTEND;TZID=UTC:20240203T170000
DTSTAMP:20260422T010946
CREATED:20240203T195553Z
LAST-MODIFIED:20240203T195926Z
UID:10002704-1706950800-1706979600@www.cypresslanesms.com
SUMMARY:S.W.A.C. East Roundup
DESCRIPTION:2nd Day of Competition.
URL:https://www.cypresslanesms.com/event/s-w-a-c-east-roundup-3/
LOCATION:Cypress Lanes\, 3200 Mallett Road\, D'Iberville\, MS\, 39540\, United States
END:VEVENT
BEGIN:VEVENT
DTSTART;TZID=UTC:20240202T090000
DTEND;TZID=UTC:20240202T170000
DTSTAMP:20260422T010946
CREATED:20240203T194018Z
LAST-MODIFIED:20240203T195952Z
UID:10002703-1706864400-1706893200@www.cypresslanesms.com
SUMMARY:S.W.A.C. East Roundup
DESCRIPTION:1st Day of Competition.
URL:https://www.cypresslanesms.com/event/s-w-a-c-east-roundup-2/
LOCATION:Cypress Lanes\, 3200 Mallett Road\, D'Iberville\, MS\, 39540\, United States
END:VEVENT
BEGIN:VEVENT
DTSTART;TZID=UTC:20240201T183000
DTEND;TZID=UTC:20240201T220000
DTSTAMP:20260422T010946
CREATED:20231207T210353Z
LAST-MODIFIED:20231207T210353Z
UID:10002105-1706812200-1706824800@www.cypresslanesms.com
SUMMARY:Thursday Night Mixed League
DESCRIPTION:EVERY Thursday from 6:30pm to 10:00pm. Please call for availability.
URL:https://www.cypresslanesms.com/event/thursday-night-mixed-league/2024-02-01/
LOCATION:MS
END:VEVENT
BEGIN:VEVENT
DTSTART;TZID=UTC:20240201T123000
DTEND;TZID=UTC:20240201T170000
DTSTAMP:20260422T010946
CREATED:20240203T200103Z
LAST-MODIFIED:20240203T200103Z
UID:10002707-1706790600-1706806800@www.cypresslanesms.com
SUMMARY:S.W.A.C. East Roundup
DESCRIPTION:Practice Day.
URL:https://www.cypresslanesms.com/event/s-w-a-c-east-roundup/
LOCATION:Cypress Lanes\, 3200 Mallett Road\, D'Iberville\, MS\, 39540\, United States
END:VEVENT
BEGIN:VEVENT
DTSTART;TZID=UTC:20240201T100000
DTEND;TZID=UTC:20240201T123000
DTSTAMP:20260422T010946
CREATED:20231207T210224Z
LAST-MODIFIED:20240430T225609Z
UID:10001844-1706781600-1706790600@www.cypresslanesms.com
SUMMARY:Thursday Senior League Bowling
DESCRIPTION:EVERY Thursday from 10:00am to 12:30pm. Please call for availability.
URL:https://www.cypresslanesms.com/event/thursday-senior-league-bowling/2024-02-01/
LOCATION:MS
END:VEVENT
BEGIN:VEVENT
DTSTART;TZID=UTC:20240131T183000
DTEND;TZID=UTC:20240131T213000
DTSTAMP:20260422T010946
CREATED:20231207T205954Z
LAST-MODIFIED:20231207T205954Z
UID:10001583-1706725800-1706736600@www.cypresslanesms.com
SUMMARY:Wednesday Night Mixed League Bowling
DESCRIPTION:EVERY Wednesday from 6:30pm to 9:30pm. Please call for availability\,
URL:https://www.cypresslanesms.com/event/wednesday-night-mixed-league-bowling/2024-01-31/
LOCATION:Cypress Lanes\, 3200 Mallett Road\, D'Iberville\, MS\, 39540\, United States
END:VEVENT
BEGIN:VEVENT
DTSTART;TZID=UTC:20240131T100000
DTEND;TZID=UTC:20240131T120000
DTSTAMP:20260422T010946
CREATED:20231207T205719Z
LAST-MODIFIED:20240430T225655Z
UID:10001322-1706695200-1706702400@www.cypresslanesms.com
SUMMARY:Wednesday Prime Timer's League Bowling
DESCRIPTION:EVERY Wednesday from 10:00am to 12:00pm. Please call for availability.
URL:https://www.cypresslanesms.com/event/wednesday-prime-timers-league-bowling-2/2024-01-31/
LOCATION:MS
END:VEVENT
BEGIN:VEVENT
DTSTART;TZID=UTC:20240130T183000
DTEND;TZID=UTC:20240130T213000
DTSTAMP:20260422T010946
CREATED:20231207T203618Z
LAST-MODIFIED:20231207T203618Z
UID:10000792-1706639400-1706650200@www.cypresslanesms.com
SUMMARY:Tuesday Mixed League Bowling
DESCRIPTION:EVERY Tuesday from 6:30pm to 9:30pm. Please call for Availability.
URL:https://www.cypresslanesms.com/event/tuesday-mixed-league-bowling/2024-01-30/
LOCATION:Cypress Lanes\, 3200 Mallett Road\, D'Iberville\, MS\, 39540\, United States
END:VEVENT
BEGIN:VEVENT
DTSTART;TZID=UTC:20240130T123000
DTEND;TZID=UTC:20240130T160000
DTSTAMP:20260422T010946
CREATED:20231207T202358Z
LAST-MODIFIED:20231207T205318Z
UID:10000531-1706617800-1706630400@www.cypresslanesms.com
SUMMARY:Tuesday Seniors League Bowling
DESCRIPTION:EVERY Tuesday from 12:30pm to 4:00pm. Please call for Availability.
URL:https://www.cypresslanesms.com/event/tuesday-seniors-league-bowling/2024-01-30/
LOCATION:Cypress Lanes\, 3200 Mallett Road\, D'Iberville\, MS\, 39540\, United States
END:VEVENT
BEGIN:VEVENT
DTSTART;TZID=UTC:20240129T184500
DTEND;TZID=UTC:20240129T213000
DTSTAMP:20260422T010946
CREATED:20240203T200512Z
LAST-MODIFIED:20240203T200512Z
UID:10002711-1706553900-1706563800@www.cypresslanesms.com
SUMMARY:Mixed Super League
DESCRIPTION:Call for availability.
URL:https://www.cypresslanesms.com/event/mixed-super-league/2024-01-29/
LOCATION:Cypress Lanes\, 3200 Mallett Road\, D'Iberville\, MS\, 39540\, United States
END:VEVENT
BEGIN:VEVENT
DTSTART;TZID=UTC:20240128T090000
DTEND;TZID=UTC:20240128T103000
DTSTAMP:20260422T010946
CREATED:20231207T211415Z
LAST-MODIFIED:20240203T202616Z
UID:10002746-1706432400-1706437800@www.cypresslanesms.com
SUMMARY:Youth League Bowling
DESCRIPTION:EVERY Sunday from 6:00pm to 7:00pm. Please call for availability\,
URL:https://www.cypresslanesms.com/event/youth-league-bowling/2024-01-28/
LOCATION:Cypress Lanes\, 3200 Mallett Road\, D'Iberville\, MS\, 39540\, United States
END:VEVENT
BEGIN:VEVENT
DTSTART;TZID=UTC:20240127T100000
DTEND;TZID=UTC:20240127T113000
DTSTAMP:20260422T010946
CREATED:20231207T194422Z
LAST-MODIFIED:20231207T205505Z
UID:10000009-1706349600-1706355000@www.cypresslanesms.com
SUMMARY:Alley Cats League Bowling
DESCRIPTION:EVERY Saturday from 10:00am to 11:30am. Please call for Availability.
URL:https://www.cypresslanesms.com/event/alley-cats-league-bowling/2024-01-27/
LOCATION:Cypress Lanes\, 3200 Mallett Road\, D'Iberville\, MS\, 39540\, United States
END:VEVENT
BEGIN:VEVENT
DTSTART;TZID=UTC:20240125T183000
DTEND;TZID=UTC:20240125T220000
DTSTAMP:20260422T010946
CREATED:20231207T210353Z
LAST-MODIFIED:20231207T210353Z
UID:10002104-1706207400-1706220000@www.cypresslanesms.com
SUMMARY:Thursday Night Mixed League
DESCRIPTION:EVERY Thursday from 6:30pm to 10:00pm. Please call for availability.
URL:https://www.cypresslanesms.com/event/thursday-night-mixed-league/2024-01-25/
LOCATION:MS
END:VEVENT
BEGIN:VEVENT
DTSTART;TZID=UTC:20240125T100000
DTEND;TZID=UTC:20240125T123000
DTSTAMP:20260422T010946
CREATED:20231207T210224Z
LAST-MODIFIED:20240430T225609Z
UID:10001843-1706176800-1706185800@www.cypresslanesms.com
SUMMARY:Thursday Senior League Bowling
DESCRIPTION:EVERY Thursday from 10:00am to 12:30pm. Please call for availability.
URL:https://www.cypresslanesms.com/event/thursday-senior-league-bowling/2024-01-25/
LOCATION:MS
END:VEVENT
BEGIN:VEVENT
DTSTART;TZID=UTC:20240124T183000
DTEND;TZID=UTC:20240124T213000
DTSTAMP:20260422T010946
CREATED:20231207T205954Z
LAST-MODIFIED:20231207T205954Z
UID:10001582-1706121000-1706131800@www.cypresslanesms.com
SUMMARY:Wednesday Night Mixed League Bowling
DESCRIPTION:EVERY Wednesday from 6:30pm to 9:30pm. Please call for availability\,
URL:https://www.cypresslanesms.com/event/wednesday-night-mixed-league-bowling/2024-01-24/
LOCATION:Cypress Lanes\, 3200 Mallett Road\, D'Iberville\, MS\, 39540\, United States
END:VEVENT
BEGIN:VEVENT
DTSTART;TZID=UTC:20240124T100000
DTEND;TZID=UTC:20240124T120000
DTSTAMP:20260422T010946
CREATED:20231207T205719Z
LAST-MODIFIED:20240430T225655Z
UID:10001321-1706090400-1706097600@www.cypresslanesms.com
SUMMARY:Wednesday Prime Timer's League Bowling
DESCRIPTION:EVERY Wednesday from 10:00am to 12:00pm. Please call for availability.
URL:https://www.cypresslanesms.com/event/wednesday-prime-timers-league-bowling-2/2024-01-24/
LOCATION:MS
END:VEVENT
BEGIN:VEVENT
DTSTART;TZID=UTC:20240123T183000
DTEND;TZID=UTC:20240123T213000
DTSTAMP:20260422T010946
CREATED:20231207T203618Z
LAST-MODIFIED:20231207T203618Z
UID:10000791-1706034600-1706045400@www.cypresslanesms.com
SUMMARY:Tuesday Mixed League Bowling
DESCRIPTION:EVERY Tuesday from 6:30pm to 9:30pm. Please call for Availability.
URL:https://www.cypresslanesms.com/event/tuesday-mixed-league-bowling/2024-01-23/
LOCATION:Cypress Lanes\, 3200 Mallett Road\, D'Iberville\, MS\, 39540\, United States
END:VEVENT
BEGIN:VEVENT
DTSTART;TZID=UTC:20240123T123000
DTEND;TZID=UTC:20240123T160000
DTSTAMP:20260422T010946
CREATED:20231207T202358Z
LAST-MODIFIED:20231207T205318Z
UID:10000530-1706013000-1706025600@www.cypresslanesms.com
SUMMARY:Tuesday Seniors League Bowling
DESCRIPTION:EVERY Tuesday from 12:30pm to 4:00pm. Please call for Availability.
URL:https://www.cypresslanesms.com/event/tuesday-seniors-league-bowling/2024-01-23/
LOCATION:Cypress Lanes\, 3200 Mallett Road\, D'Iberville\, MS\, 39540\, United States
END:VEVENT
BEGIN:VEVENT
DTSTART;TZID=UTC:20240122T184500
DTEND;TZID=UTC:20240122T213000
DTSTAMP:20260422T010946
CREATED:20240203T200512Z
LAST-MODIFIED:20240203T200512Z
UID:10002710-1705949100-1705959000@www.cypresslanesms.com
SUMMARY:Mixed Super League
DESCRIPTION:Call for availability.
URL:https://www.cypresslanesms.com/event/mixed-super-league/2024-01-22/
LOCATION:Cypress Lanes\, 3200 Mallett Road\, D'Iberville\, MS\, 39540\, United States
END:VEVENT
END:VCALENDAR