BEGIN:VCALENDAR
VERSION:2.0
PRODID:-//Cypress Lanes - ECPv6.15.20//NONSGML v1.0//EN
CALSCALE:GREGORIAN
METHOD:PUBLISH
X-WR-CALNAME:Cypress Lanes
X-ORIGINAL-URL:https://www.cypresslanesms.com
X-WR-CALDESC:Events for Cypress Lanes
REFRESH-INTERVAL;VALUE=DURATION:PT1H
X-Robots-Tag:noindex
X-PUBLISHED-TTL:PT1H
BEGIN:VTIMEZONE
TZID:UTC
BEGIN:STANDARD
TZOFFSETFROM:+0000
TZOFFSETTO:+0000
TZNAME:UTC
DTSTART:20220101T000000
END:STANDARD
END:VTIMEZONE
BEGIN:VEVENT
DTSTART;TZID=UTC:20231216T190000
DTEND;TZID=UTC:20231216T210000
DTSTAMP:20260422T090828
CREATED:20231207T213114Z
LAST-MODIFIED:20231207T213114Z
UID:10002686-1702753200-1702760400@www.cypresslanesms.com
SUMMARY:Christmas Party
DESCRIPTION:
URL:https://www.cypresslanesms.com/event/christmas-party-2/
LOCATION:Cypress Lanes\, 3200 Mallett Road\, D'Iberville\, MS\, 39540\, United States
END:VEVENT
BEGIN:VEVENT
DTSTART;TZID=UTC:20231216T180000
DTEND;TZID=UTC:20231216T200000
DTSTAMP:20260422T090828
CREATED:20231207T212805Z
LAST-MODIFIED:20231207T212805Z
UID:10002685-1702749600-1702756800@www.cypresslanesms.com
SUMMARY:Birthday Party
DESCRIPTION:
URL:https://www.cypresslanesms.com/event/birthday-party-14/
LOCATION:Cypress Lanes\, 3200 Mallett Road\, D'Iberville\, MS\, 39540\, United States
END:VEVENT
BEGIN:VEVENT
DTSTART;TZID=UTC:20231216T100000
DTEND;TZID=UTC:20231216T160000
DTSTAMP:20260422T090828
CREATED:20231207T212522Z
LAST-MODIFIED:20231207T212522Z
UID:10002684-1702720800-1702742400@www.cypresslanesms.com
SUMMARY:Road 2 Jr. Gold
DESCRIPTION:NO AVAILABILITY DURING THIS TIME.
URL:https://www.cypresslanesms.com/event/road-2-jr-gold/
LOCATION:Cypress Lanes\, 3200 Mallett Road\, D'Iberville\, MS\, 39540\, United States
END:VEVENT
BEGIN:VEVENT
DTSTART;TZID=UTC:20231215T190000
DTEND;TZID=UTC:20231215T210000
DTSTAMP:20260422T090828
CREATED:20231207T210635Z
LAST-MODIFIED:20231207T210635Z
UID:10002360-1702666800-1702674000@www.cypresslanesms.com
SUMMARY:Birthday Party
DESCRIPTION:
URL:https://www.cypresslanesms.com/event/birthday-party-7/
LOCATION:Cypress Lanes\, 3200 Mallett Road\, D'Iberville\, MS\, 39540\, United States
END:VEVENT
BEGIN:VEVENT
DTSTART;TZID=UTC:20231215T183000
DTEND;TZID=UTC:20231215T203000
DTSTAMP:20260422T090828
CREATED:20231207T210720Z
LAST-MODIFIED:20231207T210720Z
UID:10002361-1702665000-1702672200@www.cypresslanesms.com
SUMMARY:Group Event
DESCRIPTION:
URL:https://www.cypresslanesms.com/event/group-event-2/
LOCATION:Cypress Lanes\, 3200 Mallett Road\, D'Iberville\, MS\, 39540\, United States
END:VEVENT
BEGIN:VEVENT
DTSTART;TZID=UTC:20231214T183000
DTEND;TZID=UTC:20231214T220000
DTSTAMP:20260422T090828
CREATED:20231207T210353Z
LAST-MODIFIED:20231207T210353Z
UID:10002099-1702578600-1702591200@www.cypresslanesms.com
SUMMARY:Thursday Night Mixed League
DESCRIPTION:EVERY Thursday from 6:30pm to 10:00pm. Please call for availability.
URL:https://www.cypresslanesms.com/event/thursday-night-mixed-league/2023-12-14/
LOCATION:MS
END:VEVENT
BEGIN:VEVENT
DTSTART;TZID=UTC:20231214T100000
DTEND;TZID=UTC:20231214T123000
DTSTAMP:20260422T090828
CREATED:20231207T210224Z
LAST-MODIFIED:20240430T225609Z
UID:10001838-1702548000-1702557000@www.cypresslanesms.com
SUMMARY:Thursday Senior League Bowling
DESCRIPTION:EVERY Thursday from 10:00am to 12:30pm. Please call for availability.
URL:https://www.cypresslanesms.com/event/thursday-senior-league-bowling/2023-12-14/
LOCATION:MS
END:VEVENT
BEGIN:VEVENT
DTSTART;TZID=UTC:20231213T183000
DTEND;TZID=UTC:20231213T213000
DTSTAMP:20260422T090828
CREATED:20231207T205954Z
LAST-MODIFIED:20231207T205954Z
UID:10001577-1702492200-1702503000@www.cypresslanesms.com
SUMMARY:Wednesday Night Mixed League Bowling
DESCRIPTION:EVERY Wednesday from 6:30pm to 9:30pm. Please call for availability\,
URL:https://www.cypresslanesms.com/event/wednesday-night-mixed-league-bowling/2023-12-13/
LOCATION:Cypress Lanes\, 3200 Mallett Road\, D'Iberville\, MS\, 39540\, United States
END:VEVENT
BEGIN:VEVENT
DTSTART;TZID=UTC:20231213T100000
DTEND;TZID=UTC:20231213T120000
DTSTAMP:20260422T090828
CREATED:20231207T205719Z
LAST-MODIFIED:20240430T225655Z
UID:10001316-1702461600-1702468800@www.cypresslanesms.com
SUMMARY:Wednesday Prime Timer's League Bowling
DESCRIPTION:EVERY Wednesday from 10:00am to 12:00pm. Please call for availability.
URL:https://www.cypresslanesms.com/event/wednesday-prime-timers-league-bowling-2/2023-12-13/
LOCATION:MS
END:VEVENT
BEGIN:VEVENT
DTSTART;TZID=UTC:20231212T183000
DTEND;TZID=UTC:20231212T213000
DTSTAMP:20260422T090828
CREATED:20231207T203618Z
LAST-MODIFIED:20231207T203618Z
UID:10000786-1702405800-1702416600@www.cypresslanesms.com
SUMMARY:Tuesday Mixed League Bowling
DESCRIPTION:EVERY Tuesday from 6:30pm to 9:30pm. Please call for Availability.
URL:https://www.cypresslanesms.com/event/tuesday-mixed-league-bowling/2023-12-12/
LOCATION:Cypress Lanes\, 3200 Mallett Road\, D'Iberville\, MS\, 39540\, United States
END:VEVENT
BEGIN:VEVENT
DTSTART;TZID=UTC:20231212T123000
DTEND;TZID=UTC:20231212T160000
DTSTAMP:20260422T090828
CREATED:20231207T202358Z
LAST-MODIFIED:20231207T205318Z
UID:10000525-1702384200-1702396800@www.cypresslanesms.com
SUMMARY:Tuesday Seniors League Bowling
DESCRIPTION:EVERY Tuesday from 12:30pm to 4:00pm. Please call for Availability.
URL:https://www.cypresslanesms.com/event/tuesday-seniors-league-bowling/2023-12-12/
LOCATION:Cypress Lanes\, 3200 Mallett Road\, D'Iberville\, MS\, 39540\, United States
END:VEVENT
BEGIN:VEVENT
DTSTART;TZID=UTC:20231211T183000
DTEND;TZID=UTC:20231211T213000
DTSTAMP:20260422T090828
CREATED:20231207T195046Z
LAST-MODIFIED:20231207T205340Z
UID:10000264-1702319400-1702330200@www.cypresslanesms.com
SUMMARY:Monday Night Mixed League Bowling
DESCRIPTION:EVERY Monday from 6:30pm to 9:30pm. Please call for Availability.
URL:https://www.cypresslanesms.com/event/monday-night-mixed-league-bowling/2023-12-11/
LOCATION:Cypress Lanes\, 3200 Mallett Road\, D'Iberville\, MS\, 39540\, United States
END:VEVENT
BEGIN:VEVENT
DTSTART;TZID=UTC:20231211T173000
DTEND;TZID=UTC:20231211T190000
DTSTAMP:20260422T090828
CREATED:20231207T211958Z
LAST-MODIFIED:20231207T212131Z
UID:10002683-1702315800-1702321200@www.cypresslanesms.com
SUMMARY:Coca-Cola Christmas Truck\, Santa & The Grinch Event
DESCRIPTION:
URL:https://www.cypresslanesms.com/event/coca-cola-christmas-truck-santa-the-grinch-event/
LOCATION:MS
END:VEVENT
BEGIN:VEVENT
DTSTART;TZID=UTC:20231211T150000
DTEND;TZID=UTC:20231211T190000
DTSTAMP:20260422T090828
CREATED:20231207T211812Z
LAST-MODIFIED:20231207T215846Z
UID:10002630-1702306800-1702321200@www.cypresslanesms.com
SUMMARY:High School Bowling Match
DESCRIPTION:Please call for availability.
URL:https://www.cypresslanesms.com/event/high-school-bowling-match/2023-12-11/
LOCATION:Cypress Lanes\, 3200 Mallett Road\, D'Iberville\, MS\, 39540\, United States
END:VEVENT
BEGIN:VEVENT
DTSTART;TZID=UTC:20231210T190000
DTEND;TZID=UTC:20231210T230000
DTSTAMP:20260422T090828
CREATED:20231207T211641Z
LAST-MODIFIED:20231207T211641Z
UID:10002628-1702234800-1702249200@www.cypresslanesms.com
SUMMARY:Christmas Party
DESCRIPTION:Please call for availability\,
URL:https://www.cypresslanesms.com/event/christmas-party/
LOCATION:Cypress Lanes\, 3200 Mallett Road\, D'Iberville\, MS\, 39540\, United States
END:VEVENT
BEGIN:VEVENT
DTSTART;TZID=UTC:20231210T163000
DTEND;TZID=UTC:20231210T183000
DTSTAMP:20260422T090828
CREATED:20231207T211255Z
LAST-MODIFIED:20231207T211255Z
UID:10002367-1702225800-1702233000@www.cypresslanesms.com
SUMMARY:Birthday Party
DESCRIPTION:
URL:https://www.cypresslanesms.com/event/birthday-party-13/
LOCATION:Cypress Lanes\, 3200 Mallett Road\, D'Iberville\, MS\, 39540\, United States
END:VEVENT
BEGIN:VEVENT
DTSTART;TZID=UTC:20231210T140000
DTEND;TZID=UTC:20231210T160000
DTSTAMP:20260422T090828
CREATED:20231207T211229Z
LAST-MODIFIED:20231207T211229Z
UID:10002366-1702216800-1702224000@www.cypresslanesms.com
SUMMARY:Birthday Party
DESCRIPTION:
URL:https://www.cypresslanesms.com/event/birthday-party-12/
LOCATION:Cypress Lanes\, 3200 Mallett Road\, D'Iberville\, MS\, 39540\, United States
END:VEVENT
BEGIN:VEVENT
DTSTART;TZID=UTC:20231210T110000
DTEND;TZID=UTC:20231210T130000
DTSTAMP:20260422T090828
CREATED:20231207T211148Z
LAST-MODIFIED:20231207T211148Z
UID:10002365-1702206000-1702213200@www.cypresslanesms.com
SUMMARY:Birthday Party
DESCRIPTION:
URL:https://www.cypresslanesms.com/event/birthday-party-11/
LOCATION:Cypress Lanes\, 3200 Mallett Road\, D'Iberville\, MS\, 39540\, United States
END:VEVENT
BEGIN:VEVENT
DTSTART;TZID=UTC:20231210T090000
DTEND;TZID=UTC:20231210T103000
DTSTAMP:20260422T090828
CREATED:20231207T211415Z
LAST-MODIFIED:20240203T202616Z
UID:10002741-1702198800-1702204200@www.cypresslanesms.com
SUMMARY:Youth League Bowling
DESCRIPTION:EVERY Sunday from 6:00pm to 7:00pm. Please call for availability\,
URL:https://www.cypresslanesms.com/event/youth-league-bowling/2023-12-10/
LOCATION:Cypress Lanes\, 3200 Mallett Road\, D'Iberville\, MS\, 39540\, United States
END:VEVENT
BEGIN:VEVENT
DTSTART;TZID=UTC:20231209T170000
DTEND;TZID=UTC:20231209T190000
DTSTAMP:20260422T090828
CREATED:20231207T211025Z
LAST-MODIFIED:20231207T211025Z
UID:10002364-1702141200-1702148400@www.cypresslanesms.com
SUMMARY:Birthday Party
DESCRIPTION:
URL:https://www.cypresslanesms.com/event/birthday-party-10/
LOCATION:Cypress Lanes\, 3200 Mallett Road\, D'Iberville\, MS\, 39540\, United States
END:VEVENT
BEGIN:VEVENT
DTSTART;TZID=UTC:20231209T140000
DTEND;TZID=UTC:20231209T160000
DTSTAMP:20260422T090828
CREATED:20231207T210913Z
LAST-MODIFIED:20231207T210913Z
UID:10002363-1702130400-1702137600@www.cypresslanesms.com
SUMMARY:Birthday Party
DESCRIPTION:
URL:https://www.cypresslanesms.com/event/birthday-party-9/
LOCATION:Cypress Lanes\, 3200 Mallett Road\, D'Iberville\, MS\, 39540\, United States
END:VEVENT
BEGIN:VEVENT
DTSTART;TZID=UTC:20231209T110000
DTEND;TZID=UTC:20231209T130000
DTSTAMP:20260422T090828
CREATED:20231207T210838Z
LAST-MODIFIED:20231207T210838Z
UID:10002362-1702119600-1702126800@www.cypresslanesms.com
SUMMARY:Birthday Party
DESCRIPTION:
URL:https://www.cypresslanesms.com/event/birthday-party-8/
LOCATION:Cypress Lanes\, 3200 Mallett Road\, D'Iberville\, MS\, 39540\, United States
END:VEVENT
BEGIN:VEVENT
DTSTART;TZID=UTC:20231209T100000
DTEND;TZID=UTC:20231209T113000
DTSTAMP:20260422T090828
CREATED:20231207T194422Z
LAST-MODIFIED:20231207T205505Z
UID:10000004-1702116000-1702121400@www.cypresslanesms.com
SUMMARY:Alley Cats League Bowling
DESCRIPTION:EVERY Saturday from 10:00am to 11:30am. Please call for Availability.
URL:https://www.cypresslanesms.com/event/alley-cats-league-bowling/2023-12-09/
LOCATION:Cypress Lanes\, 3200 Mallett Road\, D'Iberville\, MS\, 39540\, United States
END:VEVENT
BEGIN:VEVENT
DTSTART;TZID=UTC:20231208T170000
DTEND;TZID=UTC:20231208T190000
DTSTAMP:20260422T090828
CREATED:20231207T210445Z
LAST-MODIFIED:20231207T210445Z
UID:10002359-1702054800-1702062000@www.cypresslanesms.com
SUMMARY:Birthday Party
DESCRIPTION:
URL:https://www.cypresslanesms.com/event/birthday-party-6/
LOCATION:Cypress Lanes\, 3200 Mallett Road\, D'Iberville\, MS\, 39540\, United States
END:VEVENT
BEGIN:VEVENT
DTSTART;TZID=UTC:20231207T183000
DTEND;TZID=UTC:20231207T220000
DTSTAMP:20260422T090828
CREATED:20231207T210353Z
LAST-MODIFIED:20231207T210353Z
UID:10002098-1701973800-1701986400@www.cypresslanesms.com
SUMMARY:Thursday Night Mixed League
DESCRIPTION:EVERY Thursday from 6:30pm to 10:00pm. Please call for availability.
URL:https://www.cypresslanesms.com/event/thursday-night-mixed-league/2023-12-07/
LOCATION:MS
END:VEVENT
BEGIN:VEVENT
DTSTART;TZID=UTC:20231207T100000
DTEND;TZID=UTC:20231207T123000
DTSTAMP:20260422T090828
CREATED:20231207T210224Z
LAST-MODIFIED:20240430T225609Z
UID:10001837-1701943200-1701952200@www.cypresslanesms.com
SUMMARY:Thursday Senior League Bowling
DESCRIPTION:EVERY Thursday from 10:00am to 12:30pm. Please call for availability.
URL:https://www.cypresslanesms.com/event/thursday-senior-league-bowling/2023-12-07/
LOCATION:MS
END:VEVENT
BEGIN:VEVENT
DTSTART;TZID=UTC:20231206T183000
DTEND;TZID=UTC:20231206T213000
DTSTAMP:20260422T090828
CREATED:20231207T205954Z
LAST-MODIFIED:20231207T205954Z
UID:10001576-1701887400-1701898200@www.cypresslanesms.com
SUMMARY:Wednesday Night Mixed League Bowling
DESCRIPTION:EVERY Wednesday from 6:30pm to 9:30pm. Please call for availability\,
URL:https://www.cypresslanesms.com/event/wednesday-night-mixed-league-bowling/2023-12-06/
LOCATION:Cypress Lanes\, 3200 Mallett Road\, D'Iberville\, MS\, 39540\, United States
END:VEVENT
BEGIN:VEVENT
DTSTART;TZID=UTC:20231206T100000
DTEND;TZID=UTC:20231206T120000
DTSTAMP:20260422T090828
CREATED:20231207T205719Z
LAST-MODIFIED:20240430T225655Z
UID:10001055-1701856800-1701864000@www.cypresslanesms.com
SUMMARY:Wednesday Prime Timer's League Bowling
DESCRIPTION:EVERY Wednesday from 10:00am to 12:00pm. Please call for availability.
URL:https://www.cypresslanesms.com/event/wednesday-prime-timers-league-bowling-2/2023-12-06/
LOCATION:MS
END:VEVENT
BEGIN:VEVENT
DTSTART;TZID=UTC:20231205T183000
DTEND;TZID=UTC:20231205T213000
DTSTAMP:20260422T090828
CREATED:20231207T203618Z
LAST-MODIFIED:20231207T203618Z
UID:10000785-1701801000-1701811800@www.cypresslanesms.com
SUMMARY:Tuesday Mixed League Bowling
DESCRIPTION:EVERY Tuesday from 6:30pm to 9:30pm. Please call for Availability.
URL:https://www.cypresslanesms.com/event/tuesday-mixed-league-bowling/2023-12-05/
LOCATION:Cypress Lanes\, 3200 Mallett Road\, D'Iberville\, MS\, 39540\, United States
END:VEVENT
BEGIN:VEVENT
DTSTART;TZID=UTC:20231205T123000
DTEND;TZID=UTC:20231205T160000
DTSTAMP:20260422T090828
CREATED:20231207T202358Z
LAST-MODIFIED:20231207T205318Z
UID:10000524-1701779400-1701792000@www.cypresslanesms.com
SUMMARY:Tuesday Seniors League Bowling
DESCRIPTION:EVERY Tuesday from 12:30pm to 4:00pm. Please call for Availability.
URL:https://www.cypresslanesms.com/event/tuesday-seniors-league-bowling/2023-12-05/
LOCATION:Cypress Lanes\, 3200 Mallett Road\, D'Iberville\, MS\, 39540\, United States
END:VEVENT
END:VCALENDAR