BEGIN:VCALENDAR
VERSION:2.0
PRODID:-//Cypress Lanes - ECPv6.15.20//NONSGML v1.0//EN
CALSCALE:GREGORIAN
METHOD:PUBLISH
X-WR-CALNAME:Cypress Lanes
X-ORIGINAL-URL:https://www.cypresslanesms.com
X-WR-CALDESC:Events for Cypress Lanes
REFRESH-INTERVAL;VALUE=DURATION:PT1H
X-Robots-Tag:noindex
X-PUBLISHED-TTL:PT1H
BEGIN:VTIMEZONE
TZID:UTC
BEGIN:STANDARD
TZOFFSETFROM:+0000
TZOFFSETTO:+0000
TZNAME:UTC
DTSTART:20220101T000000
END:STANDARD
END:VTIMEZONE
BEGIN:VEVENT
DTSTART;TZID=UTC:20240110T100000
DTEND;TZID=UTC:20240110T120000
DTSTAMP:20260422T080003
CREATED:20231207T205719Z
LAST-MODIFIED:20240430T225655Z
UID:10001319-1704880800-1704888000@www.cypresslanesms.com
SUMMARY:Wednesday Prime Timer's League Bowling
DESCRIPTION:EVERY Wednesday from 10:00am to 12:00pm. Please call for availability.
URL:https://www.cypresslanesms.com/event/wednesday-prime-timers-league-bowling-2/2024-01-10/
LOCATION:MS
END:VEVENT
BEGIN:VEVENT
DTSTART;TZID=UTC:20240109T183000
DTEND;TZID=UTC:20240109T213000
DTSTAMP:20260422T080003
CREATED:20231207T203618Z
LAST-MODIFIED:20231207T203618Z
UID:10000789-1704825000-1704835800@www.cypresslanesms.com
SUMMARY:Tuesday Mixed League Bowling
DESCRIPTION:EVERY Tuesday from 6:30pm to 9:30pm. Please call for Availability.
URL:https://www.cypresslanesms.com/event/tuesday-mixed-league-bowling/2024-01-09/
LOCATION:Cypress Lanes\, 3200 Mallett Road\, D'Iberville\, MS\, 39540\, United States
END:VEVENT
BEGIN:VEVENT
DTSTART;TZID=UTC:20240109T123000
DTEND;TZID=UTC:20240109T160000
DTSTAMP:20260422T080003
CREATED:20231207T202358Z
LAST-MODIFIED:20231207T205318Z
UID:10000528-1704803400-1704816000@www.cypresslanesms.com
SUMMARY:Tuesday Seniors League Bowling
DESCRIPTION:EVERY Tuesday from 12:30pm to 4:00pm. Please call for Availability.
URL:https://www.cypresslanesms.com/event/tuesday-seniors-league-bowling/2024-01-09/
LOCATION:Cypress Lanes\, 3200 Mallett Road\, D'Iberville\, MS\, 39540\, United States
END:VEVENT
BEGIN:VEVENT
DTSTART;TZID=UTC:20240108T184500
DTEND;TZID=UTC:20240108T213000
DTSTAMP:20260422T080003
CREATED:20240203T200512Z
LAST-MODIFIED:20240203T200512Z
UID:10002708-1704739500-1704749400@www.cypresslanesms.com
SUMMARY:Mixed Super League
DESCRIPTION:Call for availability.
URL:https://www.cypresslanesms.com/event/mixed-super-league/2024-01-08/
LOCATION:Cypress Lanes\, 3200 Mallett Road\, D'Iberville\, MS\, 39540\, United States
END:VEVENT
BEGIN:VEVENT
DTSTART;TZID=UTC:20240107T090000
DTEND;TZID=UTC:20240107T103000
DTSTAMP:20260422T080003
CREATED:20231207T211415Z
LAST-MODIFIED:20240203T202616Z
UID:10002743-1704618000-1704623400@www.cypresslanesms.com
SUMMARY:Youth League Bowling
DESCRIPTION:EVERY Sunday from 6:00pm to 7:00pm. Please call for availability\,
URL:https://www.cypresslanesms.com/event/youth-league-bowling/2024-01-07/
LOCATION:Cypress Lanes\, 3200 Mallett Road\, D'Iberville\, MS\, 39540\, United States
END:VEVENT
BEGIN:VEVENT
DTSTART;TZID=UTC:20240106T100000
DTEND;TZID=UTC:20240106T113000
DTSTAMP:20260422T080003
CREATED:20231207T194422Z
LAST-MODIFIED:20231207T205505Z
UID:10000006-1704535200-1704540600@www.cypresslanesms.com
SUMMARY:Alley Cats League Bowling
DESCRIPTION:EVERY Saturday from 10:00am to 11:30am. Please call for Availability.
URL:https://www.cypresslanesms.com/event/alley-cats-league-bowling/2024-01-06/
LOCATION:Cypress Lanes\, 3200 Mallett Road\, D'Iberville\, MS\, 39540\, United States
END:VEVENT
BEGIN:VEVENT
DTSTART;TZID=UTC:20240104T183000
DTEND;TZID=UTC:20240104T220000
DTSTAMP:20260422T080003
CREATED:20231207T210353Z
LAST-MODIFIED:20231207T210353Z
UID:10002101-1704393000-1704405600@www.cypresslanesms.com
SUMMARY:Thursday Night Mixed League
DESCRIPTION:EVERY Thursday from 6:30pm to 10:00pm. Please call for availability.
URL:https://www.cypresslanesms.com/event/thursday-night-mixed-league/2024-01-04/
LOCATION:MS
END:VEVENT
BEGIN:VEVENT
DTSTART;TZID=UTC:20240104T100000
DTEND;TZID=UTC:20240104T123000
DTSTAMP:20260422T080003
CREATED:20231207T210224Z
LAST-MODIFIED:20240430T225609Z
UID:10001840-1704362400-1704371400@www.cypresslanesms.com
SUMMARY:Thursday Senior League Bowling
DESCRIPTION:EVERY Thursday from 10:00am to 12:30pm. Please call for availability.
URL:https://www.cypresslanesms.com/event/thursday-senior-league-bowling/2024-01-04/
LOCATION:MS
END:VEVENT
BEGIN:VEVENT
DTSTART;TZID=UTC:20240103T183000
DTEND;TZID=UTC:20240103T213000
DTSTAMP:20260422T080003
CREATED:20231207T205954Z
LAST-MODIFIED:20231207T205954Z
UID:10001579-1704306600-1704317400@www.cypresslanesms.com
SUMMARY:Wednesday Night Mixed League Bowling
DESCRIPTION:EVERY Wednesday from 6:30pm to 9:30pm. Please call for availability\,
URL:https://www.cypresslanesms.com/event/wednesday-night-mixed-league-bowling/2024-01-03/
LOCATION:Cypress Lanes\, 3200 Mallett Road\, D'Iberville\, MS\, 39540\, United States
END:VEVENT
BEGIN:VEVENT
DTSTART;TZID=UTC:20240103T100000
DTEND;TZID=UTC:20240103T120000
DTSTAMP:20260422T080003
CREATED:20231207T205719Z
LAST-MODIFIED:20240430T225655Z
UID:10001318-1704276000-1704283200@www.cypresslanesms.com
SUMMARY:Wednesday Prime Timer's League Bowling
DESCRIPTION:EVERY Wednesday from 10:00am to 12:00pm. Please call for availability.
URL:https://www.cypresslanesms.com/event/wednesday-prime-timers-league-bowling-2/2024-01-03/
LOCATION:MS
END:VEVENT
BEGIN:VEVENT
DTSTART;TZID=UTC:20240102T183000
DTEND;TZID=UTC:20240102T213000
DTSTAMP:20260422T080003
CREATED:20231207T203618Z
LAST-MODIFIED:20231207T203618Z
UID:10000788-1704220200-1704231000@www.cypresslanesms.com
SUMMARY:Tuesday Mixed League Bowling
DESCRIPTION:EVERY Tuesday from 6:30pm to 9:30pm. Please call for Availability.
URL:https://www.cypresslanesms.com/event/tuesday-mixed-league-bowling/2024-01-02/
LOCATION:Cypress Lanes\, 3200 Mallett Road\, D'Iberville\, MS\, 39540\, United States
END:VEVENT
BEGIN:VEVENT
DTSTART;TZID=UTC:20240102T123000
DTEND;TZID=UTC:20240102T160000
DTSTAMP:20260422T080003
CREATED:20231207T202358Z
LAST-MODIFIED:20231207T205318Z
UID:10000527-1704198600-1704211200@www.cypresslanesms.com
SUMMARY:Tuesday Seniors League Bowling
DESCRIPTION:EVERY Tuesday from 12:30pm to 4:00pm. Please call for Availability.
URL:https://www.cypresslanesms.com/event/tuesday-seniors-league-bowling/2024-01-02/
LOCATION:Cypress Lanes\, 3200 Mallett Road\, D'Iberville\, MS\, 39540\, United States
END:VEVENT
BEGIN:VEVENT
DTSTART;TZID=UTC:20240101T120000
DTEND;TZID=UTC:20240101T230000
DTSTAMP:20260422T080003
CREATED:20231213T200035Z
LAST-MODIFIED:20231213T200035Z
UID:10002701-1704110400-1704150000@www.cypresslanesms.com
SUMMARY:New Year's Day: Open Noon to 11pm
DESCRIPTION:
URL:https://www.cypresslanesms.com/event/new-years-day-open-noon-to-11pm/
LOCATION:Cypress Lanes\, 3200 Mallett Road\, D'Iberville\, MS\, 39540\, United States
END:VEVENT
BEGIN:VEVENT
DTSTART;TZID=UTC:20231231T100000
DTEND;TZID=UTC:20231231T180000
DTSTAMP:20260422T080003
CREATED:20231213T195944Z
LAST-MODIFIED:20231213T195944Z
UID:10002700-1704016800-1704045600@www.cypresslanesms.com
SUMMARY:New Year's Eve: Open 10am to 6pm
DESCRIPTION:
URL:https://www.cypresslanesms.com/event/new-years-eve-open-10am-to-6pm/
LOCATION:Cypress Lanes\, 3200 Mallett Road\, D'Iberville\, MS\, 39540\, United States
END:VEVENT
BEGIN:VEVENT
DTSTART;TZID=UTC:20231230T100000
DTEND;TZID=UTC:20231230T113000
DTSTAMP:20260422T080003
CREATED:20231207T194422Z
LAST-MODIFIED:20231207T205505Z
UID:10000005-1703930400-1703935800@www.cypresslanesms.com
SUMMARY:Alley Cats League Bowling
DESCRIPTION:EVERY Saturday from 10:00am to 11:30am. Please call for Availability.
URL:https://www.cypresslanesms.com/event/alley-cats-league-bowling/2023-12-30/
LOCATION:Cypress Lanes\, 3200 Mallett Road\, D'Iberville\, MS\, 39540\, United States
END:VEVENT
BEGIN:VEVENT
DTSTART;TZID=UTC:20231228T100000
DTEND;TZID=UTC:20231228T123000
DTSTAMP:20260422T080003
CREATED:20231207T210224Z
LAST-MODIFIED:20240430T225609Z
UID:10003419-1703757600-1703766600@www.cypresslanesms.com
SUMMARY:Thursday Senior League Bowling
DESCRIPTION:EVERY Thursday from 10:00am to 12:30pm. Please call for availability.
URL:https://www.cypresslanesms.com/event/thursday-senior-league-bowling/2023-12-28/
LOCATION:MS
END:VEVENT
BEGIN:VEVENT
DTSTART;TZID=UTC:20231227T100000
DTEND;TZID=UTC:20231227T120000
DTSTAMP:20260422T080003
CREATED:20231207T205719Z
LAST-MODIFIED:20240430T225655Z
UID:10003440-1703671200-1703678400@www.cypresslanesms.com
SUMMARY:Wednesday Prime Timer's League Bowling
DESCRIPTION:EVERY Wednesday from 10:00am to 12:00pm. Please call for availability.
URL:https://www.cypresslanesms.com/event/wednesday-prime-timers-league-bowling-2/2023-12-27/
LOCATION:MS
END:VEVENT
BEGIN:VEVENT
DTSTART;VALUE=DATE:20231225
DTEND;VALUE=DATE:20231226
DTSTAMP:20260422T080003
CREATED:20231207T215931Z
LAST-MODIFIED:20231207T215931Z
UID:10002699-1703462400-1703548799@www.cypresslanesms.com
SUMMARY:Christmas CLOSED
DESCRIPTION:
URL:https://www.cypresslanesms.com/event/christmas-closed/
LOCATION:Cypress Lanes\, 3200 Mallett Road\, D'Iberville\, MS\, 39540\, United States
END:VEVENT
BEGIN:VEVENT
DTSTART;TZID=UTC:20231224T100000
DTEND;TZID=UTC:20231224T180000
DTSTAMP:20260422T080003
CREATED:20231207T215520Z
LAST-MODIFIED:20231213T195254Z
UID:10002698-1703412000-1703440800@www.cypresslanesms.com
SUMMARY:Christmas Eve: Open 10am to 6pm
DESCRIPTION:
URL:https://www.cypresslanesms.com/event/christmas-eve-open-10am-to-6pm/
LOCATION:Cypress Lanes\, 3200 Mallett Road\, D'Iberville\, MS\, 39540\, United States
END:VEVENT
BEGIN:VEVENT
DTSTART;TZID=UTC:20231223T190000
DTEND;TZID=UTC:20231223T230000
DTSTAMP:20260422T080003
CREATED:20231207T215204Z
LAST-MODIFIED:20231207T215204Z
UID:10002697-1703358000-1703372400@www.cypresslanesms.com
SUMMARY:Group Event
DESCRIPTION:
URL:https://www.cypresslanesms.com/event/group-event-4/
LOCATION:Cypress Lanes\, 3200 Mallett Road\, D'Iberville\, MS\, 39540\, United States
END:VEVENT
BEGIN:VEVENT
DTSTART;TZID=UTC:20231222T193000
DTEND;TZID=UTC:20231222T213000
DTSTAMP:20260422T080003
CREATED:20231207T215107Z
LAST-MODIFIED:20231207T215107Z
UID:10002696-1703273400-1703280600@www.cypresslanesms.com
SUMMARY:Birthday Party
DESCRIPTION:
URL:https://www.cypresslanesms.com/event/birthday-party-19/
LOCATION:Cypress Lanes\, 3200 Mallett Road\, D'Iberville\, MS\, 39540\, United States
END:VEVENT
BEGIN:VEVENT
DTSTART;TZID=UTC:20231222T170000
DTEND;TZID=UTC:20231222T190000
DTSTAMP:20260422T080003
CREATED:20231207T215033Z
LAST-MODIFIED:20231207T215033Z
UID:10002695-1703264400-1703271600@www.cypresslanesms.com
SUMMARY:Birthday Party
DESCRIPTION:
URL:https://www.cypresslanesms.com/event/birthday-party-18/
LOCATION:Cypress Lanes\, 3200 Mallett Road\, D'Iberville\, MS\, 39540\, United States
END:VEVENT
BEGIN:VEVENT
DTSTART;TZID=UTC:20231221T183000
DTEND;TZID=UTC:20231221T220000
DTSTAMP:20260422T080003
CREATED:20231207T210353Z
LAST-MODIFIED:20231207T210353Z
UID:10002100-1703183400-1703196000@www.cypresslanesms.com
SUMMARY:Thursday Night Mixed League
DESCRIPTION:EVERY Thursday from 6:30pm to 10:00pm. Please call for availability.
URL:https://www.cypresslanesms.com/event/thursday-night-mixed-league/2023-12-21/
LOCATION:MS
END:VEVENT
BEGIN:VEVENT
DTSTART;TZID=UTC:20231221T100000
DTEND;TZID=UTC:20231221T123000
DTSTAMP:20260422T080003
CREATED:20231207T210224Z
LAST-MODIFIED:20240430T225609Z
UID:10001839-1703152800-1703161800@www.cypresslanesms.com
SUMMARY:Thursday Senior League Bowling
DESCRIPTION:EVERY Thursday from 10:00am to 12:30pm. Please call for availability.
URL:https://www.cypresslanesms.com/event/thursday-senior-league-bowling/2023-12-21/
LOCATION:MS
END:VEVENT
BEGIN:VEVENT
DTSTART;TZID=UTC:20231220T183000
DTEND;TZID=UTC:20231220T213000
DTSTAMP:20260422T080003
CREATED:20231207T205954Z
LAST-MODIFIED:20231207T205954Z
UID:10001578-1703097000-1703107800@www.cypresslanesms.com
SUMMARY:Wednesday Night Mixed League Bowling
DESCRIPTION:EVERY Wednesday from 6:30pm to 9:30pm. Please call for availability\,
URL:https://www.cypresslanesms.com/event/wednesday-night-mixed-league-bowling/2023-12-20/
LOCATION:Cypress Lanes\, 3200 Mallett Road\, D'Iberville\, MS\, 39540\, United States
END:VEVENT
BEGIN:VEVENT
DTSTART;TZID=UTC:20231220T100000
DTEND;TZID=UTC:20231220T120000
DTSTAMP:20260422T080003
CREATED:20231207T205719Z
LAST-MODIFIED:20240430T225655Z
UID:10001317-1703066400-1703073600@www.cypresslanesms.com
SUMMARY:Wednesday Prime Timer's League Bowling
DESCRIPTION:EVERY Wednesday from 10:00am to 12:00pm. Please call for availability.
URL:https://www.cypresslanesms.com/event/wednesday-prime-timers-league-bowling-2/2023-12-20/
LOCATION:MS
END:VEVENT
BEGIN:VEVENT
DTSTART;TZID=UTC:20231219T183000
DTEND;TZID=UTC:20231219T213000
DTSTAMP:20260422T080003
CREATED:20231207T203618Z
LAST-MODIFIED:20231207T203618Z
UID:10000787-1703010600-1703021400@www.cypresslanesms.com
SUMMARY:Tuesday Mixed League Bowling
DESCRIPTION:EVERY Tuesday from 6:30pm to 9:30pm. Please call for Availability.
URL:https://www.cypresslanesms.com/event/tuesday-mixed-league-bowling/2023-12-19/
LOCATION:Cypress Lanes\, 3200 Mallett Road\, D'Iberville\, MS\, 39540\, United States
END:VEVENT
BEGIN:VEVENT
DTSTART;TZID=UTC:20231219T123000
DTEND;TZID=UTC:20231219T160000
DTSTAMP:20260422T080003
CREATED:20231207T202358Z
LAST-MODIFIED:20231207T205318Z
UID:10000526-1702989000-1703001600@www.cypresslanesms.com
SUMMARY:Tuesday Seniors League Bowling
DESCRIPTION:EVERY Tuesday from 12:30pm to 4:00pm. Please call for Availability.
URL:https://www.cypresslanesms.com/event/tuesday-seniors-league-bowling/2023-12-19/
LOCATION:Cypress Lanes\, 3200 Mallett Road\, D'Iberville\, MS\, 39540\, United States
END:VEVENT
BEGIN:VEVENT
DTSTART;TZID=UTC:20231219T100000
DTEND;TZID=UTC:20231219T120000
DTSTAMP:20260422T080003
CREATED:20231207T214837Z
LAST-MODIFIED:20231207T214837Z
UID:10002693-1702980000-1702987200@www.cypresslanesms.com
SUMMARY:Group Event
DESCRIPTION:
URL:https://www.cypresslanesms.com/event/group-event-3/2023-12-19/
LOCATION:Cypress Lanes\, 3200 Mallett Road\, D'Iberville\, MS\, 39540\, United States
END:VEVENT
BEGIN:VEVENT
DTSTART;TZID=UTC:20231218T183000
DTEND;TZID=UTC:20231218T213000
DTSTAMP:20260422T080003
CREATED:20231207T195046Z
LAST-MODIFIED:20231207T205340Z
UID:10000265-1702924200-1702935000@www.cypresslanesms.com
SUMMARY:Monday Night Mixed League Bowling
DESCRIPTION:EVERY Monday from 6:30pm to 9:30pm. Please call for Availability.
URL:https://www.cypresslanesms.com/event/monday-night-mixed-league-bowling/2023-12-18/
LOCATION:Cypress Lanes\, 3200 Mallett Road\, D'Iberville\, MS\, 39540\, United States
END:VEVENT
END:VCALENDAR