BEGIN:VCALENDAR
VERSION:2.0
PRODID:-//Cypress Lanes - ECPv6.15.20//NONSGML v1.0//EN
CALSCALE:GREGORIAN
METHOD:PUBLISH
X-ORIGINAL-URL:https://www.cypresslanesms.com
X-WR-CALDESC:Events for Cypress Lanes
REFRESH-INTERVAL;VALUE=DURATION:PT1H
X-Robots-Tag:noindex
X-PUBLISHED-TTL:PT1H
BEGIN:VTIMEZONE
TZID:UTC
BEGIN:STANDARD
TZOFFSETFROM:+0000
TZOFFSETTO:+0000
TZNAME:UTC
DTSTART:20240101T000000
END:STANDARD
END:VTIMEZONE
BEGIN:VEVENT
DTSTART;TZID=UTC:20250625T183000
DTEND;TZID=UTC:20250625T213000
DTSTAMP:20260422T075301
CREATED:20231207T205954Z
LAST-MODIFIED:20231207T205954Z
UID:10001656-1750876200-1750887000@www.cypresslanesms.com
SUMMARY:Wednesday Night Mixed League Bowling
DESCRIPTION:EVERY Wednesday from 6:30pm to 9:30pm. Please call for availability\,
URL:https://www.cypresslanesms.com/event/wednesday-night-mixed-league-bowling/2025-06-25/
LOCATION:Cypress Lanes\, 3200 Mallett Road\, D'Iberville\, MS\, 39540\, United States
END:VEVENT
BEGIN:VEVENT
DTSTART;TZID=UTC:20250626T100000
DTEND;TZID=UTC:20250626T123000
DTSTAMP:20260422T075301
CREATED:20231207T210224Z
LAST-MODIFIED:20240430T225609Z
UID:10001917-1750932000-1750941000@www.cypresslanesms.com
SUMMARY:Thursday Senior League Bowling
DESCRIPTION:EVERY Thursday from 10:00am to 12:30pm. Please call for availability.
URL:https://www.cypresslanesms.com/event/thursday-senior-league-bowling/2025-06-26/
LOCATION:MS
END:VEVENT
BEGIN:VEVENT
DTSTART;TZID=UTC:20250626T123000
DTEND;TZID=UTC:20250626T143000
DTSTAMP:20260422T075301
CREATED:20250602T213732Z
LAST-MODIFIED:20250602T213732Z
UID:10004605-1750941000-1750948200@www.cypresslanesms.com
SUMMARY:Group Events
DESCRIPTION:Call for availability.
URL:https://www.cypresslanesms.com/event/group-events-8/
LOCATION:Cypress Lanes\, 3200 Mallett Road\, D'Iberville\, MS\, 39540\, United States
END:VEVENT
BEGIN:VEVENT
DTSTART;TZID=UTC:20250626T183000
DTEND;TZID=UTC:20250626T220000
DTSTAMP:20260422T075301
CREATED:20231207T210353Z
LAST-MODIFIED:20231207T210353Z
UID:10002178-1750962600-1750975200@www.cypresslanesms.com
SUMMARY:Thursday Night Mixed League
DESCRIPTION:EVERY Thursday from 6:30pm to 10:00pm. Please call for availability.
URL:https://www.cypresslanesms.com/event/thursday-night-mixed-league/2025-06-26/
LOCATION:MS
END:VEVENT
BEGIN:VEVENT
DTSTART;TZID=UTC:20250627T100000
DTEND;TZID=UTC:20250627T123000
DTSTAMP:20260422T075301
CREATED:20250602T213905Z
LAST-MODIFIED:20250602T213905Z
UID:10004606-1751018400-1751027400@www.cypresslanesms.com
SUMMARY:Group Event
DESCRIPTION:Call for availability.
URL:https://www.cypresslanesms.com/event/group-event-27/
LOCATION:Cypress Lanes\, 3200 Mallett Road\, D'Iberville\, MS\, 39540\, United States
END:VEVENT
BEGIN:VEVENT
DTSTART;TZID=UTC:20250627T120000
DTEND;TZID=UTC:20250627T143000
DTSTAMP:20260422T075301
CREATED:20250602T214141Z
LAST-MODIFIED:20250602T214141Z
UID:10004607-1751025600-1751034600@www.cypresslanesms.com
SUMMARY:Group Event
DESCRIPTION:Call for availability.
URL:https://www.cypresslanesms.com/event/group-event-28/
LOCATION:Cypress Lanes\, 3200 Mallett Road\, D'Iberville\, MS\, 39540\, United States
END:VEVENT
BEGIN:VEVENT
DTSTART;TZID=UTC:20250627T120000
DTEND;TZID=UTC:20250627T143000
DTSTAMP:20260422T075301
CREATED:20250602T214722Z
LAST-MODIFIED:20250602T214722Z
UID:10004609-1751025600-1751034600@www.cypresslanesms.com
SUMMARY:Group Event
DESCRIPTION:Call for availability.
URL:https://www.cypresslanesms.com/event/group-event-30/
LOCATION:Cypress Lanes\, 3200 Mallett Road\, D'Iberville\, MS\, 39540\, United States
END:VEVENT
BEGIN:VEVENT
DTSTART;TZID=UTC:20250627T130000
DTEND;TZID=UTC:20250627T140000
DTSTAMP:20260422T075301
CREATED:20250602T214430Z
LAST-MODIFIED:20250602T214430Z
UID:10004608-1751029200-1751032800@www.cypresslanesms.com
SUMMARY:Group Event
DESCRIPTION:Call for availability.
URL:https://www.cypresslanesms.com/event/group-event-29/
LOCATION:Cypress Lanes\, 3200 Mallett Road\, D'Iberville\, MS\, 39540\, United States
END:VEVENT
BEGIN:VEVENT
DTSTART;TZID=UTC:20250628T100000
DTEND;TZID=UTC:20250628T113000
DTSTAMP:20260422T075301
CREATED:20231207T194422Z
LAST-MODIFIED:20231207T205505Z
UID:10000083-1751104800-1751110200@www.cypresslanesms.com
SUMMARY:Alley Cats League Bowling
DESCRIPTION:EVERY Saturday from 10:00am to 11:30am. Please call for Availability.
URL:https://www.cypresslanesms.com/event/alley-cats-league-bowling/2025-06-28/
LOCATION:Cypress Lanes\, 3200 Mallett Road\, D'Iberville\, MS\, 39540\, United States
END:VEVENT
BEGIN:VEVENT
DTSTART;TZID=UTC:20250628T110000
DTEND;TZID=UTC:20250628T190000
DTSTAMP:20260422T075301
CREATED:20241106T194723Z
LAST-MODIFIED:20241106T194723Z
UID:10003496-1751108400-1751137200@www.cypresslanesms.com
SUMMARY:Cypress Lanes Birthday Parties
DESCRIPTION:Party Times:\n11am to 1pm\n2pm to 4pm\n5pm to 7pm \nCALL FOR AVAILABILITY
URL:https://www.cypresslanesms.com/event/cypress-lanes-birthday-parties/2025-06-28/
LOCATION:Cypress Lanes\, 3200 Mallett Road\, D'Iberville\, MS\, 39540\, United States
END:VEVENT
BEGIN:VEVENT
DTSTART;TZID=UTC:20250629T090000
DTEND;TZID=UTC:20250629T103000
DTSTAMP:20260422T075301
CREATED:20231207T211415Z
LAST-MODIFIED:20240203T202616Z
UID:10002820-1751187600-1751193000@www.cypresslanesms.com
SUMMARY:Youth League Bowling
DESCRIPTION:EVERY Sunday from 6:00pm to 7:00pm. Please call for availability\,
URL:https://www.cypresslanesms.com/event/youth-league-bowling/2025-06-29/
LOCATION:Cypress Lanes\, 3200 Mallett Road\, D'Iberville\, MS\, 39540\, United States
END:VEVENT
BEGIN:VEVENT
DTSTART;TZID=UTC:20250629T110000
DTEND;TZID=UTC:20250629T190000
DTSTAMP:20260422T075301
CREATED:20241106T194809Z
LAST-MODIFIED:20241106T194828Z
UID:10004020-1751194800-1751223600@www.cypresslanesms.com
SUMMARY:Cypress Lanes Birthday Parties
DESCRIPTION:Party Times:\n11am to 1pm\n2pm to 4pm\n5pm to 7pm \nCALL FOR AVAILABILITY
URL:https://www.cypresslanesms.com/event/cypress-lanes-birthday-parties-2/2025-06-29/
LOCATION:Cypress Lanes\, 3200 Mallett Road\, D'Iberville\, MS\, 39540\, United States
END:VEVENT
BEGIN:VEVENT
DTSTART;TZID=UTC:20250630T100000
DTEND;TZID=UTC:20250630T113000
DTSTAMP:20260422T075301
CREATED:20250602T210152Z
LAST-MODIFIED:20250602T221452Z
UID:10004307-1751277600-1751283000@www.cypresslanesms.com
SUMMARY:Group Event
DESCRIPTION:Call for availability.
URL:https://www.cypresslanesms.com/event/group-event-13/2025-06-30/
LOCATION:Cypress Lanes\, 3200 Mallett Road\, D'Iberville\, MS\, 39540\, United States
END:VEVENT
BEGIN:VEVENT
DTSTART;TZID=UTC:20250630T180000
DTEND;TZID=UTC:20250630T210000
DTSTAMP:20260422T075301
CREATED:20250602T215107Z
LAST-MODIFIED:20250602T215107Z
UID:10004614-1751306400-1751317200@www.cypresslanesms.com
SUMMARY:Sport Shot League
DESCRIPTION:Call for availability.
URL:https://www.cypresslanesms.com/event/sport-shot-league/2025-06-30/
LOCATION:Cypress Lanes\, 3200 Mallett Road\, D'Iberville\, MS\, 39540\, United States
END:VEVENT
BEGIN:VEVENT
DTSTART;TZID=UTC:20250701T100000
DTEND;TZID=UTC:20250701T113000
DTSTAMP:20260422T075301
CREATED:20250701T184605Z
LAST-MODIFIED:20250701T184605Z
UID:10004672-1751364000-1751369400@www.cypresslanesms.com
SUMMARY:Group Event
DESCRIPTION:Call for availability.
URL:https://www.cypresslanesms.com/event/group-event-18/
LOCATION:Cypress Lanes\, 3200 Mallett Road\, D'Iberville\, MS\, 39540\, United States
END:VEVENT
BEGIN:VEVENT
DTSTART;TZID=UTC:20250701T123000
DTEND;TZID=UTC:20250701T160000
DTSTAMP:20260422T075301
CREATED:20231207T202358Z
LAST-MODIFIED:20231207T205318Z
UID:10000605-1751373000-1751385600@www.cypresslanesms.com
SUMMARY:Tuesday Seniors League Bowling
DESCRIPTION:EVERY Tuesday from 12:30pm to 4:00pm. Please call for Availability.
URL:https://www.cypresslanesms.com/event/tuesday-seniors-league-bowling/2025-07-01/
LOCATION:Cypress Lanes\, 3200 Mallett Road\, D'Iberville\, MS\, 39540\, United States
END:VEVENT
BEGIN:VEVENT
DTSTART;TZID=UTC:20250701T183000
DTEND;TZID=UTC:20250701T213000
DTSTAMP:20260422T075301
CREATED:20231207T203618Z
LAST-MODIFIED:20231207T203618Z
UID:10000866-1751394600-1751405400@www.cypresslanesms.com
SUMMARY:Tuesday Mixed League Bowling
DESCRIPTION:EVERY Tuesday from 6:30pm to 9:30pm. Please call for Availability.
URL:https://www.cypresslanesms.com/event/tuesday-mixed-league-bowling/2025-07-01/
LOCATION:Cypress Lanes\, 3200 Mallett Road\, D'Iberville\, MS\, 39540\, United States
END:VEVENT
BEGIN:VEVENT
DTSTART;TZID=UTC:20250702T100000
DTEND;TZID=UTC:20250702T113000
DTSTAMP:20260422T075301
CREATED:20250701T185004Z
LAST-MODIFIED:20250701T185004Z
UID:10004673-1751450400-1751455800@www.cypresslanesms.com
SUMMARY:Group Event
DESCRIPTION:Call for availability.
URL:https://www.cypresslanesms.com/event/group-event-32/
LOCATION:Cypress Lanes\, 3200 Mallett Road\, D'Iberville\, MS\, 39540\, United States
END:VEVENT
BEGIN:VEVENT
DTSTART;TZID=UTC:20250702T100000
DTEND;TZID=UTC:20250702T120000
DTSTAMP:20260422T075301
CREATED:20231207T205719Z
LAST-MODIFIED:20240430T225655Z
UID:10001396-1751450400-1751457600@www.cypresslanesms.com
SUMMARY:Wednesday Prime Timer's League Bowling
DESCRIPTION:EVERY Wednesday from 10:00am to 12:00pm. Please call for availability.
URL:https://www.cypresslanesms.com/event/wednesday-prime-timers-league-bowling-2/2025-07-02/
LOCATION:MS
END:VEVENT
BEGIN:VEVENT
DTSTART;TZID=UTC:20250702T123000
DTEND;TZID=UTC:20250702T133000
DTSTAMP:20260422T075301
CREATED:20250701T185128Z
LAST-MODIFIED:20250701T185128Z
UID:10004674-1751459400-1751463000@www.cypresslanesms.com
SUMMARY:Group Event
DESCRIPTION:Call for availability.
URL:https://www.cypresslanesms.com/event/group-event-33/
LOCATION:Cypress Lanes\, 3200 Mallett Road\, D'Iberville\, MS\, 39540\, United States
END:VEVENT
BEGIN:VEVENT
DTSTART;TZID=UTC:20250702T183000
DTEND;TZID=UTC:20250702T213000
DTSTAMP:20260422T075301
CREATED:20231207T205954Z
LAST-MODIFIED:20231207T205954Z
UID:10001657-1751481000-1751491800@www.cypresslanesms.com
SUMMARY:Wednesday Night Mixed League Bowling
DESCRIPTION:EVERY Wednesday from 6:30pm to 9:30pm. Please call for availability\,
URL:https://www.cypresslanesms.com/event/wednesday-night-mixed-league-bowling/2025-07-02/
LOCATION:Cypress Lanes\, 3200 Mallett Road\, D'Iberville\, MS\, 39540\, United States
END:VEVENT
BEGIN:VEVENT
DTSTART;TZID=UTC:20250703T100000
DTEND;TZID=UTC:20250703T123000
DTSTAMP:20260422T075301
CREATED:20231207T210224Z
LAST-MODIFIED:20240430T225609Z
UID:10001918-1751536800-1751545800@www.cypresslanesms.com
SUMMARY:Thursday Senior League Bowling
DESCRIPTION:EVERY Thursday from 10:00am to 12:30pm. Please call for availability.
URL:https://www.cypresslanesms.com/event/thursday-senior-league-bowling/2025-07-03/
LOCATION:MS
END:VEVENT
BEGIN:VEVENT
DTSTART;TZID=UTC:20250703T123000
DTEND;TZID=UTC:20250703T133000
DTSTAMP:20260422T075301
CREATED:20250701T185216Z
LAST-MODIFIED:20250701T185216Z
UID:10004675-1751545800-1751549400@www.cypresslanesms.com
SUMMARY:Group Event
DESCRIPTION:Call for availability.
URL:https://www.cypresslanesms.com/event/group-event-34/
LOCATION:Cypress Lanes\, 3200 Mallett Road\, D'Iberville\, MS\, 39540\, United States
END:VEVENT
BEGIN:VEVENT
DTSTART;TZID=UTC:20250703T130000
DTEND;TZID=UTC:20250703T140000
DTSTAMP:20260422T075301
CREATED:20250701T185303Z
LAST-MODIFIED:20250701T185303Z
UID:10004676-1751547600-1751551200@www.cypresslanesms.com
SUMMARY:Group Event
DESCRIPTION:Call for availability.
URL:https://www.cypresslanesms.com/event/group-event-35/
LOCATION:Cypress Lanes\, 3200 Mallett Road\, D'Iberville\, MS\, 39540\, United States
END:VEVENT
BEGIN:VEVENT
DTSTART;TZID=UTC:20250703T183000
DTEND;TZID=UTC:20250703T220000
DTSTAMP:20260422T075301
CREATED:20231207T210353Z
LAST-MODIFIED:20231207T210353Z
UID:10002179-1751567400-1751580000@www.cypresslanesms.com
SUMMARY:Thursday Night Mixed League
DESCRIPTION:EVERY Thursday from 6:30pm to 10:00pm. Please call for availability.
URL:https://www.cypresslanesms.com/event/thursday-night-mixed-league/2025-07-03/
LOCATION:MS
END:VEVENT
BEGIN:VEVENT
DTSTART;TZID=UTC:20250705T100000
DTEND;TZID=UTC:20250705T113000
DTSTAMP:20260422T075301
CREATED:20231207T194422Z
LAST-MODIFIED:20231207T205505Z
UID:10000084-1751709600-1751715000@www.cypresslanesms.com
SUMMARY:Alley Cats League Bowling
DESCRIPTION:EVERY Saturday from 10:00am to 11:30am. Please call for Availability.
URL:https://www.cypresslanesms.com/event/alley-cats-league-bowling/2025-07-05/
LOCATION:Cypress Lanes\, 3200 Mallett Road\, D'Iberville\, MS\, 39540\, United States
END:VEVENT
BEGIN:VEVENT
DTSTART;TZID=UTC:20250705T110000
DTEND;TZID=UTC:20250705T190000
DTSTAMP:20260422T075301
CREATED:20241106T194723Z
LAST-MODIFIED:20241106T194723Z
UID:10003497-1751713200-1751742000@www.cypresslanesms.com
SUMMARY:Cypress Lanes Birthday Parties
DESCRIPTION:Party Times:\n11am to 1pm\n2pm to 4pm\n5pm to 7pm \nCALL FOR AVAILABILITY
URL:https://www.cypresslanesms.com/event/cypress-lanes-birthday-parties/2025-07-05/
LOCATION:Cypress Lanes\, 3200 Mallett Road\, D'Iberville\, MS\, 39540\, United States
END:VEVENT
BEGIN:VEVENT
DTSTART;TZID=UTC:20250706T090000
DTEND;TZID=UTC:20250706T103000
DTSTAMP:20260422T075301
CREATED:20231207T211415Z
LAST-MODIFIED:20240203T202616Z
UID:10002821-1751792400-1751797800@www.cypresslanesms.com
SUMMARY:Youth League Bowling
DESCRIPTION:EVERY Sunday from 6:00pm to 7:00pm. Please call for availability\,
URL:https://www.cypresslanesms.com/event/youth-league-bowling/2025-07-06/
LOCATION:Cypress Lanes\, 3200 Mallett Road\, D'Iberville\, MS\, 39540\, United States
END:VEVENT
BEGIN:VEVENT
DTSTART;TZID=UTC:20250706T110000
DTEND;TZID=UTC:20250706T190000
DTSTAMP:20260422T075301
CREATED:20241106T194809Z
LAST-MODIFIED:20241106T194828Z
UID:10004021-1751799600-1751828400@www.cypresslanesms.com
SUMMARY:Cypress Lanes Birthday Parties
DESCRIPTION:Party Times:\n11am to 1pm\n2pm to 4pm\n5pm to 7pm \nCALL FOR AVAILABILITY
URL:https://www.cypresslanesms.com/event/cypress-lanes-birthday-parties-2/2025-07-06/
LOCATION:Cypress Lanes\, 3200 Mallett Road\, D'Iberville\, MS\, 39540\, United States
END:VEVENT
BEGIN:VEVENT
DTSTART;TZID=UTC:20250707T120000
DTEND;TZID=UTC:20250707T130000
DTSTAMP:20260422T075301
CREATED:20250701T185538Z
LAST-MODIFIED:20250701T185538Z
UID:10004677-1751889600-1751893200@www.cypresslanesms.com
SUMMARY:Group Event
DESCRIPTION:Call for availability.
URL:https://www.cypresslanesms.com/event/group-event-36/
LOCATION:Cypress Lanes\, 3200 Mallett Road\, D'Iberville\, MS\, 39540\, United States
END:VEVENT
END:VCALENDAR